BEGIN:VCALENDAR
VERSION:2.0
PRODID:-//Magic Space - ECPv6.3.5//NONSGML v1.0//EN
CALSCALE:GREGORIAN
METHOD:PUBLISH
X-ORIGINAL-URL:https://magicspace.ca
X-WR-CALDESC:Events for Magic Space
REFRESH-INTERVAL;VALUE=DURATION:PT1H
X-Robots-Tag:noindex
X-PUBLISHED-TTL:PT1H
BEGIN:VTIMEZONE
TZID:UTC
BEGIN:STANDARD
TZOFFSETFROM:+0000
TZOFFSETTO:+0000
TZNAME:UTC
DTSTART:20230101T000000
END:STANDARD
END:VTIMEZONE
BEGIN:VEVENT
DTSTART;VALUE=DATE:20230101
DTEND;VALUE=DATE:20230102
DTSTAMP:20260425T124908
CREATED:20221209T163813Z
LAST-MODIFIED:20221209T163813Z
UID:3858-1672531200-1672617599@magicspace.ca
SUMMARY:Happy New Year!!! - Closed all day
DESCRIPTION:
URL:https://magicspace.ca/event/happy-new-year-closed-all-day/
END:VEVENT
BEGIN:VEVENT
DTSTART;TZID=UTC:20230104T093000
DTEND;TZID=UTC:20230106T170000
DTSTAMP:20260425T124908
CREATED:20221209T164035Z
LAST-MODIFIED:20221209T164035Z
UID:3860-1672824600-1673024400@magicspace.ca
SUMMARY:Garage sale- 9:30 AM to 5:00 PM
DESCRIPTION:
URL:https://magicspace.ca/event/garage-sale-930-am-to-500-pm/
END:VEVENT
BEGIN:VEVENT
DTSTART;VALUE=DATE:20230109
DTEND;VALUE=DATE:20230110
DTSTAMP:20260425T124908
CREATED:20221209T164130Z
LAST-MODIFIED:20221209T164130Z
UID:3862-1673222400-1673308799@magicspace.ca
SUMMARY:Permanently Closed- Thank you very much for your support
DESCRIPTION:
URL:https://magicspace.ca/event/permanently-closed-thank-you-very-much-for-your-support/
END:VEVENT
BEGIN:VEVENT
DTSTART;VALUE=DATE:20230115
DTEND;VALUE=DATE:20230116
DTSTAMP:20260425T124908
CREATED:20230104T235221Z
LAST-MODIFIED:20230104T235221Z
UID:3873-1673740800-1673827199@magicspace.ca
SUMMARY:Playground auction January 15\, 2023. https://kauctions.ca/auction/the-magic-space-indoor-playground-auction/
DESCRIPTION:
URL:https://magicspace.ca/event/playground-auction-january-15-2023-https-kauctions-ca-auction-the-magic-space-indoor-playground-auction/
END:VEVENT
END:VCALENDAR