BEGIN:VCALENDAR
VERSION:2.0
PRODID:-//Magic Space - ECPv6.3.5//NONSGML v1.0//EN
CALSCALE:GREGORIAN
METHOD:PUBLISH
X-WR-CALNAME:Magic Space
X-ORIGINAL-URL:https://magicspace.ca
X-WR-CALDESC:Events for Magic Space
REFRESH-INTERVAL;VALUE=DURATION:PT1H
X-Robots-Tag:noindex
X-PUBLISHED-TTL:PT1H
BEGIN:VTIMEZONE
TZID:UTC
BEGIN:STANDARD
TZOFFSETFROM:+0000
TZOFFSETTO:+0000
TZNAME:UTC
DTSTART:20220101T000000
END:STANDARD
END:VTIMEZONE
BEGIN:VEVENT
DTSTART;VALUE=DATE:20221225
DTEND;VALUE=DATE:20221226
DTSTAMP:20260425T124530
CREATED:20221209T163530Z
LAST-MODIFIED:20221209T163530Z
UID:3854-1671926400-1672012799@magicspace.ca
SUMMARY:Merry Christmas!! -Closed all day
DESCRIPTION:
URL:https://magicspace.ca/event/merry-christmas-closed-all-day-2/
END:VEVENT
BEGIN:VEVENT
DTSTART;TZID=UTC:20221226T093000
DTEND;TZID=UTC:20221226T130000
DTSTAMP:20260425T124530
CREATED:20221209T163724Z
LAST-MODIFIED:20221209T163724Z
UID:3856-1672047000-1672059600@magicspace.ca
SUMMARY:Boxing Day- Open from 9:30 AM to 1:00 PM
DESCRIPTION:
URL:https://magicspace.ca/event/boxing-day-open-from-930-am-to-100-pm/
END:VEVENT
END:VCALENDAR