BEGIN:VCALENDAR
VERSION:2.0
PRODID:-//Magic Space - ECPv6.3.5//NONSGML v1.0//EN
CALSCALE:GREGORIAN
METHOD:PUBLISH
X-ORIGINAL-URL:https://magicspace.ca
X-WR-CALDESC:Events for Magic Space
REFRESH-INTERVAL;VALUE=DURATION:PT1H
X-Robots-Tag:noindex
X-PUBLISHED-TTL:PT1H
BEGIN:VTIMEZONE
TZID:UTC
BEGIN:STANDARD
TZOFFSETFROM:+0000
TZOFFSETTO:+0000
TZNAME:UTC
DTSTART:20200101T000000
END:STANDARD
END:VTIMEZONE
BEGIN:VEVENT
DTSTART;TZID=UTC:20210411T100000
DTEND;TZID=UTC:20210411T120000
DTSTAMP:20260421T053023
CREATED:20210410T143102Z
LAST-MODIFIED:20210410T143102Z
UID:3229-1618135200-1618142400@magicspace.ca
SUMMARY:Available from 10 to 12
DESCRIPTION:
URL:https://magicspace.ca/event/available-from-10-to-12/
END:VEVENT
BEGIN:VEVENT
DTSTART;TZID=UTC:20201223T173000
DTEND;TZID=UTC:20201223T210000
DTSTAMP:20260421T053023
CREATED:20201025T155106Z
LAST-MODIFIED:20201025T155106Z
UID:3042-1608744600-1608757200@magicspace.ca
SUMMARY:reserved for private party 5:30 p.m.-9:00 p.m.
DESCRIPTION:
URL:https://magicspace.ca/event/reserved-for-private-party-530-p-m-900-p-m-2/
END:VEVENT
BEGIN:VEVENT
DTSTART;TZID=UTC:20201129T113000
DTEND;TZID=UTC:20201129T130000
DTSTAMP:20260421T053023
CREATED:20201111T224252Z
LAST-MODIFIED:20201111T224252Z
UID:3076-1606649400-1606654800@magicspace.ca
SUMMARY:reserved for private party 11:30 a.m.-1:00 p.m.
DESCRIPTION:
URL:https://magicspace.ca/event/reserved-for-private-party-1130-a-m-100-p-m/
END:VEVENT
BEGIN:VEVENT
DTSTART;TZID=UTC:20201128T153000
DTEND;TZID=UTC:20201128T190000
DTSTAMP:20260421T053023
CREATED:20201111T224442Z
LAST-MODIFIED:20201112T164021Z
UID:3078-1606577400-1606590000@magicspace.ca
SUMMARY:reserved for private party 3:30 p.m.-7:00 p.m.
DESCRIPTION:
URL:https://magicspace.ca/event/reserved-for-private-party-330-p-m-700-p-m/
END:VEVENT
BEGIN:VEVENT
DTSTART;TZID=UTC:20201122T144500
DTEND;TZID=UTC:20201122T170000
DTSTAMP:20260421T053023
CREATED:20201023T170300Z
LAST-MODIFIED:20201023T170300Z
UID:3026-1606056300-1606064400@magicspace.ca
SUMMARY:reserved for private party 2:45 p.m.-5:00 p.m.
DESCRIPTION:
URL:https://magicspace.ca/event/reserved-for-private-party-245-p-m-500-p-m/
END:VEVENT
BEGIN:VEVENT
DTSTART;TZID=UTC:20201114T144500
DTEND;TZID=UTC:20201114T170000
DTSTAMP:20260421T053023
CREATED:20201107T160731Z
LAST-MODIFIED:20201107T160731Z
UID:3057-1605365100-1605373200@magicspace.ca
SUMMARY:reserved for private party 2.45 p.m.-5.00 p.m.
DESCRIPTION:
URL:https://magicspace.ca/event/reserved-for-private-party-2-45-p-m-5-00-p-m/
END:VEVENT
BEGIN:VEVENT
DTSTART;TZID=UTC:20201031T143000
DTEND;TZID=UTC:20201031T170000
DTSTAMP:20260421T053023
CREATED:20200929T004946Z
LAST-MODIFIED:20200929T004946Z
UID:2951-1604154600-1604163600@magicspace.ca
SUMMARY:Reserved from 2:45 to 5:00
DESCRIPTION:
URL:https://magicspace.ca/event/reserved-from-245-to-500/
END:VEVENT
BEGIN:VEVENT
DTSTART;TZID=UTC:20201029T133000
DTEND;TZID=UTC:20201029T170000
DTSTAMP:20260421T053023
CREATED:20201028T215249Z
LAST-MODIFIED:20201028T215309Z
UID:3051-1603978200-1603990800@magicspace.ca
SUMMARY:8 kids dayhome from 1:30PM to 5:00PM Open for public
DESCRIPTION:
URL:https://magicspace.ca/event/8-kids-dayhome-from-130pm-to-500pm-open-for-public/
END:VEVENT
BEGIN:VEVENT
DTSTART;TZID=UTC:20201025T143000
DTEND;TZID=UTC:20201025T170000
DTSTAMP:20260421T053023
CREATED:20200930T171346Z
LAST-MODIFIED:20200930T171346Z
UID:2953-1603636200-1603645200@magicspace.ca
SUMMARY:Reserved from 2:45 to 5:00
DESCRIPTION:
URL:https://magicspace.ca/event/reserved-from-245-to-500-2/
END:VEVENT
BEGIN:VEVENT
DTSTART;TZID=UTC:20201024T173000
DTEND;TZID=UTC:20201024T210000
DTSTAMP:20260421T053023
CREATED:20190926T235940Z
LAST-MODIFIED:20200309T223052Z
UID:2642-1603560600-1603573200@magicspace.ca
SUMMARY:reserved for private party 5.30 p.m.-9.00 p.m.
DESCRIPTION:
URL:https://magicspace.ca/event/reserved-for-private-party-5-30-p-m-9-00-p-m-332/
END:VEVENT
BEGIN:VEVENT
DTSTART;TZID=UTC:20200426T173000
DTEND;TZID=UTC:20200426T210000
DTSTAMP:20260421T053023
CREATED:20200218T174616Z
LAST-MODIFIED:20200218T174616Z
UID:2878-1587922200-1587934800@magicspace.ca
SUMMARY:Reserved for private party from 5:30 to 9:00 PM
DESCRIPTION:
URL:https://magicspace.ca/event/reserved-for-private-party-from-530-to-900-pm-3/
END:VEVENT
BEGIN:VEVENT
DTSTART;TZID=UTC:20200425T173000
DTEND;TZID=UTC:20200425T210000
DTSTAMP:20260421T053023
CREATED:20190427T125643Z
LAST-MODIFIED:20190427T125643Z
UID:2350-1587835800-1587848400@magicspace.ca
SUMMARY:reserved for private party 5.30 p.m.-9.00 p.m.
DESCRIPTION:
URL:https://magicspace.ca/event/reserved-for-private-party-5-30-p-m-9-00-p-m-262/
END:VEVENT
BEGIN:VEVENT
DTSTART;TZID=UTC:20200424T173000
DTEND;TZID=UTC:20200424T210000
DTSTAMP:20260421T053023
CREATED:20190923T020945Z
LAST-MODIFIED:20190923T020945Z
UID:2639-1587749400-1587762000@magicspace.ca
SUMMARY:reserved for private party 5.30 p.m.-9.00 p.m.
DESCRIPTION:
URL:https://magicspace.ca/event/reserved-for-private-party-5-30-p-m-9-00-p-m-331/
END:VEVENT
BEGIN:VEVENT
DTSTART;TZID=UTC:20200419T173000
DTEND;TZID=UTC:20200419T210000
DTSTAMP:20260421T053023
CREATED:20200217T032344Z
LAST-MODIFIED:20200217T032344Z
UID:2871-1587317400-1587330000@magicspace.ca
SUMMARY:reserved for private party 5.30 p.m.-9.00 p.m.
DESCRIPTION:
URL:https://magicspace.ca/event/reserved-for-private-party-5-30-p-m-9-00-p-m-367/
END:VEVENT
BEGIN:VEVENT
DTSTART;TZID=UTC:20200418T173000
DTEND;TZID=UTC:20200418T213000
DTSTAMP:20260421T053023
CREATED:20191231T180147Z
LAST-MODIFIED:20191231T180147Z
UID:2802-1587231000-1587245400@magicspace.ca
SUMMARY:Reserved for private party from 5:30 pm to 9:30 pm
DESCRIPTION:
URL:https://magicspace.ca/event/reserved-for-private-party-from-530-pm-to-930-pm-5/
END:VEVENT
BEGIN:VEVENT
DTSTART;TZID=UTC:20200417T173000
DTEND;TZID=UTC:20200417T210000
DTSTAMP:20260421T053023
CREATED:20200115T021359Z
LAST-MODIFIED:20200115T021359Z
UID:2828-1587144600-1587157200@magicspace.ca
SUMMARY:Reserved for Private Party from 5:30 pm to 9:00 pm
DESCRIPTION:
URL:https://magicspace.ca/event/reserved-for-private-party-from-530-pm-to-900-pm-2/
END:VEVENT
BEGIN:VEVENT
DTSTART;TZID=UTC:20200416T173000
DTEND;TZID=UTC:20200416T210000
DTSTAMP:20260421T053023
CREATED:20200227T235717Z
LAST-MODIFIED:20200227T235717Z
UID:2887-1587058200-1587070800@magicspace.ca
SUMMARY:Reserved for private party from 5:00 to 9:30
DESCRIPTION:
URL:https://magicspace.ca/event/reserved-for-private-party-from-500-to-930-2/
END:VEVENT
BEGIN:VEVENT
DTSTART;TZID=UTC:20200412T173000
DTEND;TZID=UTC:20200412T210000
DTSTAMP:20260421T053023
CREATED:20200212T205816Z
LAST-MODIFIED:20200212T205816Z
UID:2867-1586712600-1586725200@magicspace.ca
SUMMARY:Reserved for private party from 5:30 to 9:00 PM
DESCRIPTION:
URL:https://magicspace.ca/event/reserved-for-private-party-from-530-to-900-pm-2/
END:VEVENT
BEGIN:VEVENT
DTSTART;TZID=UTC:20200411T173000
DTEND;TZID=UTC:20200411T210000
DTSTAMP:20260421T053023
CREATED:20190701T165238Z
LAST-MODIFIED:20190701T165238Z
UID:2454-1586626200-1586638800@magicspace.ca
SUMMARY:reserved for private party 5.30 p.m.-9.00 p.m.
DESCRIPTION:
URL:https://magicspace.ca/event/reserved-for-private-party-5-30-p-m-9-00-p-m-123/
END:VEVENT
BEGIN:VEVENT
DTSTART;TZID=UTC:20200410T173000
DTEND;TZID=UTC:20200410T210000
DTSTAMP:20260421T053023
CREATED:20200216T024529Z
LAST-MODIFIED:20200216T024529Z
UID:2869-1586539800-1586552400@magicspace.ca
SUMMARY:reserved for private party 5.30 p.m.-9.00 p.m.
DESCRIPTION:
URL:https://magicspace.ca/event/reserved-for-private-party-5-30-p-m-9-00-p-m-366/
END:VEVENT
BEGIN:VEVENT
DTSTART;TZID=UTC:20200409T170000
DTEND;TZID=UTC:20200409T213000
DTSTAMP:20260421T053023
CREATED:20200305T192133Z
LAST-MODIFIED:20200305T192133Z
UID:2898-1586451600-1586467800@magicspace.ca
SUMMARY:Reserved for Private party from 5:30 PM to 9:00 PM
DESCRIPTION:
URL:https://magicspace.ca/event/reserved-for-private-party-from-530-pm-to-900-pm-6/
END:VEVENT
BEGIN:VEVENT
DTSTART;TZID=UTC:20200406T173000
DTEND;TZID=UTC:20200406T210000
DTSTAMP:20260421T053023
CREATED:20200131T215120Z
LAST-MODIFIED:20200201T183203Z
UID:2851-1586194200-1586206800@magicspace.ca
SUMMARY:Reserved for private party from 5:30 PM to 9:00 PM
DESCRIPTION:
URL:https://magicspace.ca/event/reserved-for-private-party-from-530-pm-to-900-pm-5/
END:VEVENT
BEGIN:VEVENT
DTSTART;TZID=UTC:20200404T173000
DTEND;TZID=UTC:20200404T210000
DTSTAMP:20260421T053023
CREATED:20190805T225807Z
LAST-MODIFIED:20190805T225807Z
UID:2517-1586021400-1586034000@magicspace.ca
SUMMARY:RESERVED FOR PRIVATE PARTY 5.30 P.M.-9.00 P.M.
DESCRIPTION:
URL:https://magicspace.ca/event/reserved-for-private-party-5-30-p-m-9-00-p-m-298/
END:VEVENT
BEGIN:VEVENT
DTSTART;VALUE=DATE:20200316
DTEND;VALUE=DATE:20200404
DTSTAMP:20260421T053023
CREATED:20200318T145125Z
LAST-MODIFIED:20200318T150054Z
UID:2923-1584316800-1585958399@magicspace.ca
SUMMARY:Closed until will be safe to open again. Only e-mails at info@magicspace.ca
DESCRIPTION:
URL:https://magicspace.ca/event/closed-until-will-be-safe-to-open-again-only-e-mails-at-infomagicspace-ca/
END:VEVENT
BEGIN:VEVENT
DTSTART;TZID=UTC:20200314T173000
DTEND;TZID=UTC:20200314T210000
DTSTAMP:20260421T053023
CREATED:20200104T011733Z
LAST-MODIFIED:20200104T011733Z
UID:2814-1584207000-1584219600@magicspace.ca
SUMMARY:reserved for private party 5.30 p.m.-9.00 p.m.
DESCRIPTION:
URL:https://magicspace.ca/event/reserved-for-private-party-5-30-p-m-9-00-p-m-359/
END:VEVENT
BEGIN:VEVENT
DTSTART;TZID=UTC:20200313T173000
DTEND;TZID=UTC:20200313T213000
DTSTAMP:20260421T053023
CREATED:20200110T215335Z
LAST-MODIFIED:20200110T215335Z
UID:2819-1584120600-1584135000@magicspace.ca
SUMMARY:Reserved for private party from 5:00 PM to 9:00 PM
DESCRIPTION:
URL:https://magicspace.ca/event/reserved-for-private-party-from-500-pm-to-900-pm/
END:VEVENT
BEGIN:VEVENT
DTSTART;TZID=UTC:20200313T090000
DTEND;TZID=UTC:20200313T120000
DTSTAMP:20260421T053023
CREATED:20200311T213804Z
LAST-MODIFIED:20200311T213804Z
UID:2907-1584090000-1584100800@magicspace.ca
SUMMARY:Group of 34 from 9:00 to 12. Open to the public
DESCRIPTION:
URL:https://magicspace.ca/event/group-of-34-from-900-to-12-open-to-the-public/
END:VEVENT
BEGIN:VEVENT
DTSTART;TZID=UTC:20200309T080000
DTEND;TZID=UTC:20200309T170000
DTSTAMP:20260421T053023
CREATED:20200309T012648Z
LAST-MODIFIED:20200309T012648Z
UID:2901-1583740800-1583773200@magicspace.ca
SUMMARY:reserved for private party 5.30 p.m.-9.00 p.m.
DESCRIPTION:
URL:https://magicspace.ca/event/reserved-for-private-party-5-30-p-m-9-00-p-m-373/
END:VEVENT
BEGIN:VEVENT
DTSTART;TZID=UTC:20200308T173000
DTEND;TZID=UTC:20200308T210000
DTSTAMP:20260421T053023
CREATED:20200104T011655Z
LAST-MODIFIED:20200120T194545Z
UID:2812-1583688600-1583701200@magicspace.ca
SUMMARY:reserved for private party 5.30 p.m.-9.00 p.m.
DESCRIPTION:
URL:https://magicspace.ca/event/reserved-for-private-party-5-30-p-m-9-00-p-m-358/
END:VEVENT
BEGIN:VEVENT
DTSTART;TZID=UTC:20200307T173000
DTEND;TZID=UTC:20200307T210000
DTSTAMP:20260421T053023
CREATED:20190512T200501Z
LAST-MODIFIED:20190512T200501Z
UID:2371-1583602200-1583614800@magicspace.ca
SUMMARY:reserved for private party 5.30 p.m.-9.00 p.m.
DESCRIPTION:
URL:https://magicspace.ca/event/reserved-for-private-party-5-30-p-m-9-00-p-m-264/
END:VEVENT
END:VCALENDAR