BEGIN:VCALENDAR
VERSION:2.0
PRODID:-//Magic Space - ECPv6.3.5//NONSGML v1.0//EN
CALSCALE:GREGORIAN
METHOD:PUBLISH
X-WR-CALNAME:Magic Space
X-ORIGINAL-URL:https://magicspace.ca
X-WR-CALDESC:Events for Magic Space
REFRESH-INTERVAL;VALUE=DURATION:PT1H
X-Robots-Tag:noindex
X-PUBLISHED-TTL:PT1H
BEGIN:VTIMEZONE
TZID:UTC
BEGIN:STANDARD
TZOFFSETFROM:+0000
TZOFFSETTO:+0000
TZNAME:UTC
DTSTART:20210101T000000
END:STANDARD
END:VTIMEZONE
BEGIN:VEVENT
DTSTART;TZID=UTC:20220329T093000
DTEND;TZID=UTC:20220329T143000
DTSTAMP:20260421T045015
CREATED:20220323T165414Z
LAST-MODIFIED:20220324T231149Z
UID:3719-1648546200-1648564200@magicspace.ca
SUMMARY:Tuesday March 29\, open from 9:30 AM to 2:30 PM
DESCRIPTION:
URL:https://magicspace.ca/event/tuesday-march-29-open-from-930-am-to-530-pm/
END:VEVENT
BEGIN:VEVENT
DTSTART;TZID=UTC:20220221T093000
DTEND;TZID=UTC:20220221T130000
DTSTAMP:20260421T045015
CREATED:20220120T202825Z
LAST-MODIFIED:20220120T202825Z
UID:3692-1645435800-1645448400@magicspace.ca
SUMMARY:Family day- Open from 9:30 AM to 1:00 PM
DESCRIPTION:
URL:https://magicspace.ca/event/family-day-open-from-930-am-to-100-pm/
END:VEVENT
BEGIN:VEVENT
DTSTART;TZID=UTC:20211111T093000
DTEND;TZID=UTC:20211111T163000
DTSTAMP:20260421T045015
CREATED:20211111T163517Z
LAST-MODIFIED:20211111T163517Z
UID:3672-1636623000-1636648200@magicspace.ca
SUMMARY:Veterans Day- Open from 9:30 AM to 4:30 PM
DESCRIPTION:
URL:https://magicspace.ca/event/veterans-day-open-from-930-am-to-430-pm/
END:VEVENT
BEGIN:VEVENT
DTSTART;TZID=UTC:20211104T100000
DTEND;TZID=UTC:20211104T113000
DTSTAMP:20260421T045015
CREATED:20211025T230353Z
LAST-MODIFIED:20211025T230424Z
UID:3661-1636020000-1636025400@magicspace.ca
SUMMARY:Mommy Connection 10:00 AM to 11:30 AM- open to the public
DESCRIPTION:
URL:https://magicspace.ca/event/mommy-connection-1000-am-to-1130-am/
END:VEVENT
BEGIN:VEVENT
DTSTART;TZID=UTC:20211029T173000
DTEND;TZID=UTC:20211029T210000
DTSTAMP:20260421T045015
CREATED:20211007T213118Z
LAST-MODIFIED:20211007T213118Z
UID:3657-1635528600-1635541200@magicspace.ca
SUMMARY:Preschool pumpkin carving from 5:30 PM to 8:00 PM. Bring your Halloween customs
DESCRIPTION:
URL:https://magicspace.ca/event/preschool-pumpkin-carving-from-530-pm-to-800-pm-bring-your-halloween-customs/
END:VEVENT
BEGIN:VEVENT
DTSTART;TZID=UTC:20210921T113000
DTEND;TZID=UTC:20210921T123000
DTSTAMP:20260421T045015
CREATED:20210916T210135Z
LAST-MODIFIED:20210916T210135Z
UID:3633-1632223800-1632227400@magicspace.ca
SUMMARY:Preschool short class\, meet the teachers at 11:30 AM
DESCRIPTION:
URL:https://magicspace.ca/event/preschool-short-class-meet-the-teachers-at-1130-am/
END:VEVENT
BEGIN:VEVENT
DTSTART;VALUE=DATE:20210920
DTEND;VALUE=DATE:20210921
DTSTAMP:20260421T045015
CREATED:20210916T210229Z
LAST-MODIFIED:20210916T210229Z
UID:3635-1632096000-1632182399@magicspace.ca
SUMMARY:Monday  closed all day
DESCRIPTION:
URL:https://magicspace.ca/event/monday-closed-all-day/
END:VEVENT
BEGIN:VEVENT
DTSTART;TZID=UTC:20210906T093000
DTEND;TZID=UTC:20210906T140000
DTSTAMP:20260421T045015
CREATED:20210830T233542Z
LAST-MODIFIED:20210830T233542Z
UID:3616-1630920600-1630936800@magicspace.ca
SUMMARY:Labor Day long weekend open from 9:30 AM to 2:00 PM
DESCRIPTION:
URL:https://magicspace.ca/event/labor-day-long-weekend-open-from-930-am-to-200-pm/
END:VEVENT
BEGIN:VEVENT
DTSTART;TZID=UTC:20210901T080000
DTEND;TZID=UTC:20210902T170000
DTSTAMP:20260421T045015
CREATED:20210830T163200Z
LAST-MODIFIED:20210830T163200Z
UID:3609-1630483200-1630602000@magicspace.ca
SUMMARY:Preschool Open House from 10:00 AM to 5:00 PM
DESCRIPTION:
URL:https://magicspace.ca/event/preschool-open-house-from-1000-am-to-500-pm/
END:VEVENT
BEGIN:VEVENT
DTSTART;VALUE=DATE:20210701
DTEND;VALUE=DATE:20210712
DTSTAMP:20260421T045015
CREATED:20210623T000837Z
LAST-MODIFIED:20210623T000837Z
UID:3516-1625097600-1626047999@magicspace.ca
SUMMARY:Closed to the public due to previous bookings. Reopen on July 12
DESCRIPTION:
URL:https://magicspace.ca/event/closed-to-the-public-due-to-previous-bookings-reopen-on-july-12/
END:VEVENT
BEGIN:VEVENT
DTSTART;TZID=UTC:20210624T173000
DTEND;TZID=UTC:20210624T200000
DTSTAMP:20260421T045015
CREATED:20210616T224637Z
LAST-MODIFIED:20210616T224637Z
UID:3501-1624555800-1624564800@magicspace.ca
SUMMARY:Closed to the public from 5:30 PM to 8:00 PM due to previous booking
DESCRIPTION:
URL:https://magicspace.ca/event/closed-to-the-public-from-530-pm-to-800-pm-due-to-previous-booking/
END:VEVENT
BEGIN:VEVENT
DTSTART;TZID=UTC:20210612T173000
DTEND;TZID=UTC:20210612T213000
DTSTAMP:20260421T045015
CREATED:20191218T173624Z
LAST-MODIFIED:20200511T190811Z
UID:2793-1623519000-1623533400@magicspace.ca
SUMMARY:Reserved for private party from 5:30 to 9:30
DESCRIPTION:
URL:https://magicspace.ca/event/reserved-for-private-party-from-530-to-930-6/
END:VEVENT
BEGIN:VEVENT
DTSTART;TZID=UTC:20210530T173000
DTEND;TZID=UTC:20210530T193000
DTSTAMP:20260421T045015
CREATED:20210411T191455Z
LAST-MODIFIED:20210411T191455Z
UID:3449-1622395800-1622403000@magicspace.ca
SUMMARY:Available 5:30-7:30
DESCRIPTION:
URL:https://magicspace.ca/event/available-530-730-25/
END:VEVENT
BEGIN:VEVENT
DTSTART;TZID=UTC:20210530T123000
DTEND;TZID=UTC:20210530T143000
DTSTAMP:20260421T045015
CREATED:20210411T191356Z
LAST-MODIFIED:20210411T191356Z
UID:3445-1622377800-1622385000@magicspace.ca
SUMMARY:Available 12:30-2:30
DESCRIPTION:
URL:https://magicspace.ca/event/available-1230-230-25/
END:VEVENT
BEGIN:VEVENT
DTSTART;TZID=UTC:20210530T100000
DTEND;TZID=UTC:20210530T120000
DTSTAMP:20260421T045015
CREATED:20210411T191322Z
LAST-MODIFIED:20210411T191322Z
UID:3443-1622368800-1622376000@magicspace.ca
SUMMARY:Available 10:00-12:00
DESCRIPTION:
URL:https://magicspace.ca/event/available-1000-1200-24/
END:VEVENT
BEGIN:VEVENT
DTSTART;TZID=UTC:20210529T173000
DTEND;TZID=UTC:20210529T193000
DTSTAMP:20260421T045015
CREATED:20210411T191232Z
LAST-MODIFIED:20210411T191232Z
UID:3441-1622309400-1622316600@magicspace.ca
SUMMARY:Available 5:30-7:30
DESCRIPTION:
URL:https://magicspace.ca/event/available-530-730-24/
END:VEVENT
BEGIN:VEVENT
DTSTART;TZID=UTC:20210529T150000
DTEND;TZID=UTC:20210529T170000
DTSTAMP:20260421T045015
CREATED:20210411T191159Z
LAST-MODIFIED:20210411T191159Z
UID:3439-1622300400-1622307600@magicspace.ca
SUMMARY:Available 3:00-5:00
DESCRIPTION:
URL:https://magicspace.ca/event/available-300-500-24/
END:VEVENT
BEGIN:VEVENT
DTSTART;TZID=UTC:20210529T123000
DTEND;TZID=UTC:20210529T143000
DTSTAMP:20260421T045015
CREATED:20210411T191134Z
LAST-MODIFIED:20210411T191134Z
UID:3437-1622291400-1622298600@magicspace.ca
SUMMARY:Available 12:30-2:30
DESCRIPTION:
URL:https://magicspace.ca/event/available-1230-230-24/
END:VEVENT
BEGIN:VEVENT
DTSTART;TZID=UTC:20210529T100000
DTEND;TZID=UTC:20210529T120000
DTSTAMP:20260421T045015
CREATED:20210411T191104Z
LAST-MODIFIED:20210411T191104Z
UID:3435-1622282400-1622289600@magicspace.ca
SUMMARY:Available 10:00-12:00
DESCRIPTION:
URL:https://magicspace.ca/event/available-1000-1200-23/
END:VEVENT
BEGIN:VEVENT
DTSTART;TZID=UTC:20210528T173000
DTEND;TZID=UTC:20210528T193000
DTSTAMP:20260421T045015
CREATED:20210411T191003Z
LAST-MODIFIED:20210411T191003Z
UID:3433-1622223000-1622230200@magicspace.ca
SUMMARY:Available 5:30-7:30
DESCRIPTION:
URL:https://magicspace.ca/event/available-530-730-23/
END:VEVENT
BEGIN:VEVENT
DTSTART;TZID=UTC:20210528T150000
DTEND;TZID=UTC:20210528T170000
DTSTAMP:20260421T045015
CREATED:20210411T190931Z
LAST-MODIFIED:20210411T190931Z
UID:3431-1622214000-1622221200@magicspace.ca
SUMMARY:Available 3:00-5:00
DESCRIPTION:
URL:https://magicspace.ca/event/available-300-500-23/
END:VEVENT
BEGIN:VEVENT
DTSTART;TZID=UTC:20210528T123000
DTEND;TZID=UTC:20210528T143000
DTSTAMP:20260421T045015
CREATED:20210411T190903Z
LAST-MODIFIED:20210411T190903Z
UID:3429-1622205000-1622212200@magicspace.ca
SUMMARY:Available 12:30-2:30
DESCRIPTION:
URL:https://magicspace.ca/event/available-1230-230-23/
END:VEVENT
BEGIN:VEVENT
DTSTART;TZID=UTC:20210528T100000
DTEND;TZID=UTC:20210528T120000
DTSTAMP:20260421T045015
CREATED:20210411T190831Z
LAST-MODIFIED:20210411T190831Z
UID:3427-1622196000-1622203200@magicspace.ca
SUMMARY:Available 10:00-12:00
DESCRIPTION:
URL:https://magicspace.ca/event/available-1000-1200-22/
END:VEVENT
BEGIN:VEVENT
DTSTART;TZID=UTC:20210527T173000
DTEND;TZID=UTC:20210527T193000
DTSTAMP:20260421T045015
CREATED:20210411T190701Z
LAST-MODIFIED:20210411T190701Z
UID:3425-1622136600-1622143800@magicspace.ca
SUMMARY:Available 5:30-7:30
DESCRIPTION:
URL:https://magicspace.ca/event/available-530-730-22/
END:VEVENT
BEGIN:VEVENT
DTSTART;TZID=UTC:20210527T150000
DTEND;TZID=UTC:20210527T170000
DTSTAMP:20260421T045015
CREATED:20210411T190632Z
LAST-MODIFIED:20210411T190632Z
UID:3423-1622127600-1622134800@magicspace.ca
SUMMARY:Available 3:00-5:00
DESCRIPTION:
URL:https://magicspace.ca/event/available-300-500-22/
END:VEVENT
BEGIN:VEVENT
DTSTART;TZID=UTC:20210527T123000
DTEND;TZID=UTC:20210527T143000
DTSTAMP:20260421T045015
CREATED:20210411T190609Z
LAST-MODIFIED:20210411T190609Z
UID:3421-1622118600-1622125800@magicspace.ca
SUMMARY:Available 12:30-2:30
DESCRIPTION:
URL:https://magicspace.ca/event/available-1230-230-22/
END:VEVENT
BEGIN:VEVENT
DTSTART;TZID=UTC:20210527T100000
DTEND;TZID=UTC:20210527T120000
DTSTAMP:20260421T045015
CREATED:20210411T190538Z
LAST-MODIFIED:20210411T190538Z
UID:3419-1622109600-1622116800@magicspace.ca
SUMMARY:Available 10:00-12:00
DESCRIPTION:
URL:https://magicspace.ca/event/available-1000-1200-21/
END:VEVENT
BEGIN:VEVENT
DTSTART;TZID=UTC:20210526T150000
DTEND;TZID=UTC:20210526T170000
DTSTAMP:20260421T045015
CREATED:20210411T190413Z
LAST-MODIFIED:20210411T190413Z
UID:3415-1622041200-1622048400@magicspace.ca
SUMMARY:Available 3:00-5:00
DESCRIPTION:
URL:https://magicspace.ca/event/available-300-500-21/
END:VEVENT
BEGIN:VEVENT
DTSTART;TZID=UTC:20210526T123000
DTEND;TZID=UTC:20210526T143000
DTSTAMP:20260421T045015
CREATED:20210411T190341Z
LAST-MODIFIED:20210411T190341Z
UID:3413-1622032200-1622039400@magicspace.ca
SUMMARY:Available 12:30-2:30
DESCRIPTION:
URL:https://magicspace.ca/event/available-1230-230-21/
END:VEVENT
BEGIN:VEVENT
DTSTART;TZID=UTC:20210526T100000
DTEND;TZID=UTC:20210526T120000
DTSTAMP:20260421T045015
CREATED:20210411T190309Z
LAST-MODIFIED:20210411T190309Z
UID:3411-1622023200-1622030400@magicspace.ca
SUMMARY:Available 10:00-12:00
DESCRIPTION:
URL:https://magicspace.ca/event/available-1000-1200-20/
END:VEVENT
END:VCALENDAR