BEGIN:VCALENDAR
VERSION:2.0
PRODID:-//Magic Space - ECPv6.3.5//NONSGML v1.0//EN
CALSCALE:GREGORIAN
METHOD:PUBLISH
X-WR-CALNAME:Magic Space
X-ORIGINAL-URL:https://magicspace.ca
X-WR-CALDESC:Events for Magic Space
REFRESH-INTERVAL;VALUE=DURATION:PT1H
X-Robots-Tag:noindex
X-PUBLISHED-TTL:PT1H
BEGIN:VTIMEZONE
TZID:UTC
BEGIN:STANDARD
TZOFFSETFROM:+0000
TZOFFSETTO:+0000
TZNAME:UTC
DTSTART:20190101T000000
END:STANDARD
END:VTIMEZONE
BEGIN:VEVENT
DTSTART;TZID=UTC:20190510T173000
DTEND;TZID=UTC:20190510T210000
DTSTAMP:20260423T065839
CREATED:20190223T232602Z
LAST-MODIFIED:20190223T232602Z
UID:2226-1557509400-1557522000@magicspace.ca
SUMMARY:reserved for private party 5.30 p.m.-9.00 p.m.
DESCRIPTION:
URL:https://magicspace.ca/event/reserved-for-private-party-5-30-p-m-9-00-p-m-226/
END:VEVENT
BEGIN:VEVENT
DTSTART;TZID=UTC:20190509T173000
DTEND;TZID=UTC:20190509T210000
DTSTAMP:20260423T065839
CREATED:20190328T001242Z
LAST-MODIFIED:20190328T001242Z
UID:2308-1557423000-1557435600@magicspace.ca
SUMMARY:reserved for private party 5.30 p.m.-9.00 p.m.
DESCRIPTION:
URL:https://magicspace.ca/event/reserved-for-private-party-5-30-p-m-9-00-p-m-247/
END:VEVENT
BEGIN:VEVENT
DTSTART;TZID=UTC:20190506T173000
DTEND;TZID=UTC:20190506T210000
DTSTAMP:20260423T065839
CREATED:20190330T014900Z
LAST-MODIFIED:20190330T014900Z
UID:2312-1557163800-1557176400@magicspace.ca
SUMMARY:reserved for private party 5.30 p.m.-9.00 p.m.
DESCRIPTION:
URL:https://magicspace.ca/event/reserved-for-private-party-5-30-p-m-9-00-p-m-249/
END:VEVENT
BEGIN:VEVENT
DTSTART;TZID=UTC:20190505T173000
DTEND;TZID=UTC:20190505T210000
DTSTAMP:20260423T065839
CREATED:20190305T171551Z
LAST-MODIFIED:20190305T171551Z
UID:2256-1557077400-1557090000@magicspace.ca
SUMMARY:Reserved for Private Party 5:30pm-9pm
DESCRIPTION:
URL:https://magicspace.ca/event/reserved-for-private-party-530pm-9pm/
END:VEVENT
BEGIN:VEVENT
DTSTART;TZID=UTC:20190504T173000
DTEND;TZID=UTC:20190504T210000
DTSTAMP:20260423T065839
CREATED:20190106T191737Z
LAST-MODIFIED:20190106T191737Z
UID:2107-1556991000-1557003600@magicspace.ca
SUMMARY:reserved for private party 5.30 p.m.-9.00 p.m.
DESCRIPTION:
URL:https://magicspace.ca/event/reserved-for-private-party-5-30-p-m-9-00-p-m-189/
END:VEVENT
BEGIN:VEVENT
DTSTART;TZID=UTC:20190503T173000
DTEND;TZID=UTC:20190503T210000
DTSTAMP:20260423T065839
CREATED:20190124T232029Z
LAST-MODIFIED:20190124T232029Z
UID:2177-1556904600-1556917200@magicspace.ca
SUMMARY:reserved for private party 5.30 p.m.-9.00 p.m.
DESCRIPTION:
URL:https://magicspace.ca/event/reserved-for-private-party-5-30-p-m-9-00-p-m-210/
END:VEVENT
BEGIN:VEVENT
DTSTART;TZID=UTC:20190503T100000
DTEND;TZID=UTC:20190503T140000
DTSTAMP:20260423T065839
CREATED:20190502T155315Z
LAST-MODIFIED:20190502T155315Z
UID:2365-1556877600-1556892000@magicspace.ca
SUMMARY:group booking 30 kids (open to public)
DESCRIPTION:
URL:https://magicspace.ca/event/group-booking-30-kids-open-to-public/
END:VEVENT
BEGIN:VEVENT
DTSTART;TZID=UTC:20190502T173000
DTEND;TZID=UTC:20190502T210000
DTSTAMP:20260423T065839
CREATED:20190310T015637Z
LAST-MODIFIED:20190310T015637Z
UID:2272-1556818200-1556830800@magicspace.ca
SUMMARY:reserved for private party 5.30 p.m.-9.00 p.m.
DESCRIPTION:
URL:https://magicspace.ca/event/reserved-for-private-party-5-30-p-m-9-00-p-m-237/
END:VEVENT
BEGIN:VEVENT
DTSTART;TZID=UTC:20190502T100000
DTEND;TZID=UTC:20190502T140000
DTSTAMP:20260423T065839
CREATED:20190502T155225Z
LAST-MODIFIED:20190502T155225Z
UID:2363-1556791200-1556805600@magicspace.ca
SUMMARY:Group booking 40 kids (open to public)
DESCRIPTION:
URL:https://magicspace.ca/event/group-booking-40-kids-open-to-public/
END:VEVENT
BEGIN:VEVENT
DTSTART;TZID=UTC:20190428T173000
DTEND;TZID=UTC:20190428T210000
DTSTAMP:20260423T065839
CREATED:20181226T062712Z
LAST-MODIFIED:20181226T062712Z
UID:2084-1556472600-1556485200@magicspace.ca
SUMMARY:reserved for private party 5.30 p.m.-9.00 p.m.
DESCRIPTION:[one_half_last]
URL:https://magicspace.ca/event/reserved-for-private-party-5-30-p-m-9-00-p-m-181/
END:VEVENT
BEGIN:VEVENT
DTSTART;TZID=UTC:20190427T173000
DTEND;TZID=UTC:20190427T210000
DTSTAMP:20260423T065839
CREATED:20190119T180220Z
LAST-MODIFIED:20190119T180220Z
UID:2163-1556386200-1556398800@magicspace.ca
SUMMARY:reserved for private party 5.30 p.m.-9.00 p.m.
DESCRIPTION:
URL:https://magicspace.ca/event/reserved-for-private-party-5-30-p-m-9-00-p-m-205/
END:VEVENT
BEGIN:VEVENT
DTSTART;TZID=UTC:20190426T173000
DTEND;TZID=UTC:20190426T210000
DTSTAMP:20260423T065839
CREATED:20190214T231453Z
LAST-MODIFIED:20190214T231453Z
UID:2213-1556299800-1556312400@magicspace.ca
SUMMARY:reserved for private party 5.30 p.m.-9.00 p.m.
DESCRIPTION:
URL:https://magicspace.ca/event/reserved-for-private-party-5-30-p-m-9-00-p-m-221/
END:VEVENT
BEGIN:VEVENT
DTSTART;TZID=UTC:20190425T100000
DTEND;TZID=UTC:20190425T130000
DTSTAMP:20260423T065839
CREATED:20190322T194803Z
LAST-MODIFIED:20190322T194803Z
UID:2301-1556186400-1556197200@magicspace.ca
SUMMARY:Connect Society Group (30+ kids) 10am-1pm
DESCRIPTION:
URL:https://magicspace.ca/event/connect-society-group-30-kids-10am-1pm/
END:VEVENT
BEGIN:VEVENT
DTSTART;TZID=UTC:20190421T173000
DTEND;TZID=UTC:20190421T210000
DTSTAMP:20260423T065839
CREATED:20190315T001144Z
LAST-MODIFIED:20190315T001144Z
UID:2279-1555867800-1555880400@magicspace.ca
SUMMARY:reserved for private party 5.30 p.m.-9.00 p.m.
DESCRIPTION:
URL:https://magicspace.ca/event/reserved-for-private-party-5-30-p-m-9-00-p-m-240/
END:VEVENT
BEGIN:VEVENT
DTSTART;TZID=UTC:20190420T173000
DTEND;TZID=UTC:20190420T210000
DTSTAMP:20260423T065839
CREATED:20181117T004238Z
LAST-MODIFIED:20181117T004238Z
UID:2025-1555781400-1555794000@magicspace.ca
SUMMARY:reserved for private party 5.30 p.m.-9.00 p.m.
DESCRIPTION:
URL:https://magicspace.ca/event/reserved-for-private-party-5-30-p-m-9-00-p-m-172/
END:VEVENT
BEGIN:VEVENT
DTSTART;TZID=UTC:20190419T173000
DTEND;TZID=UTC:20190419T210000
DTSTAMP:20260423T065839
CREATED:20190202T031627Z
LAST-MODIFIED:20190202T031627Z
UID:2194-1555695000-1555707600@magicspace.ca
SUMMARY:reserved for private party 5.30 p.m.-9.00 p.m.
DESCRIPTION:
URL:https://magicspace.ca/event/reserved-for-private-party-5-30-p-m-9-00-p-m-217/
END:VEVENT
BEGIN:VEVENT
DTSTART;TZID=UTC:20190418T173000
DTEND;TZID=UTC:20190418T210000
DTSTAMP:20260423T065839
CREATED:20190317T204046Z
LAST-MODIFIED:20190317T204046Z
UID:2286-1555608600-1555621200@magicspace.ca
SUMMARY:reserved for private party 5.30 p.m.-9.00 p.m.
DESCRIPTION:
URL:https://magicspace.ca/event/reserved-for-private-party-5-30-p-m-9-00-p-m-243/
END:VEVENT
BEGIN:VEVENT
DTSTART;TZID=UTC:20190415T173000
DTEND;TZID=UTC:20190415T210000
DTSTAMP:20260423T065839
CREATED:20190402T015211Z
LAST-MODIFIED:20190402T015211Z
UID:2317-1555349400-1555362000@magicspace.ca
SUMMARY:reserved for private party 5.30 p.m.-9.00 p.m.
DESCRIPTION:
URL:https://magicspace.ca/event/reserved-for-private-party-5-30-p-m-9-00-p-m-251/
END:VEVENT
BEGIN:VEVENT
DTSTART;TZID=UTC:20190414T173000
DTEND;TZID=UTC:20190414T210000
DTSTAMP:20260423T065839
CREATED:20190113T004621Z
LAST-MODIFIED:20190113T004621Z
UID:2149-1555263000-1555275600@magicspace.ca
SUMMARY:reserved for private party 5.30 p.m.-9.00 p.m.
DESCRIPTION:
URL:https://magicspace.ca/event/reserved-for-private-party-5-30-p-m-9-00-p-m-200/
END:VEVENT
BEGIN:VEVENT
DTSTART;TZID=UTC:20190413T173000
DTEND;TZID=UTC:20190413T210000
DTSTAMP:20260423T065839
CREATED:20181020T024444Z
LAST-MODIFIED:20181020T024444Z
UID:1981-1555176600-1555189200@magicspace.ca
SUMMARY:reserved for private party 5.30 p.m.-9.00 p.m.
DESCRIPTION:
URL:https://magicspace.ca/event/reserved-for-private-party-5-30-p-m-9-00-p-m-158/
END:VEVENT
BEGIN:VEVENT
DTSTART;TZID=UTC:20190412T173000
DTEND;TZID=UTC:20190412T210000
DTSTAMP:20260423T065839
CREATED:20190310T014718Z
LAST-MODIFIED:20190310T014718Z
UID:2268-1555090200-1555102800@magicspace.ca
SUMMARY:reserved for private party 5.30 p.m.-9.00 p.m.
DESCRIPTION:
URL:https://magicspace.ca/event/reserved-for-private-party-5-30-p-m-9-00-p-m-235/
END:VEVENT
BEGIN:VEVENT
DTSTART;TZID=UTC:20190407T173000
DTEND;TZID=UTC:20190407T210000
DTSTAMP:20260423T065839
CREATED:20190119T011528Z
LAST-MODIFIED:20190119T011528Z
UID:2158-1554658200-1554670800@magicspace.ca
SUMMARY:reserved for private party 5.30 p.m.-9.00 p.m.
DESCRIPTION:
URL:https://magicspace.ca/event/reserved-for-private-party-5-30-p-m-9-00-p-m-203/
END:VEVENT
BEGIN:VEVENT
DTSTART;TZID=UTC:20190406T173000
DTEND;TZID=UTC:20190406T210000
DTSTAMP:20260423T065839
CREATED:20180912T140445Z
LAST-MODIFIED:20180912T140445Z
UID:1936-1554571800-1554584400@magicspace.ca
SUMMARY:reserved for private party 5.30 p.m.-9.00 p.m.
DESCRIPTION:
URL:https://magicspace.ca/event/reserved-for-private-party-5-30-p-m-9-00-p-m-146/
END:VEVENT
BEGIN:VEVENT
DTSTART;TZID=UTC:20190405T173000
DTEND;TZID=UTC:20190405T210000
DTSTAMP:20260423T065839
CREATED:20190111T232412Z
LAST-MODIFIED:20190111T232412Z
UID:2144-1554485400-1554498000@magicspace.ca
SUMMARY:reserved for private party 5.30 p.m-9.00 p.m.
DESCRIPTION:
URL:https://magicspace.ca/event/reserved-for-private-party-5-30-p-m-9-00-p-m-198/
END:VEVENT
BEGIN:VEVENT
DTSTART;TZID=UTC:20190401T173000
DTEND;TZID=UTC:20190401T210000
DTSTAMP:20260423T065839
CREATED:20190317T194634Z
LAST-MODIFIED:20190317T194634Z
UID:2284-1554139800-1554152400@magicspace.ca
SUMMARY:reserved for private party 5.30 p.m.-9.00 p.m
DESCRIPTION:
URL:https://magicspace.ca/event/reserved-for-private-party-5-30-p-m-9-00-p-m-242/
END:VEVENT
BEGIN:VEVENT
DTSTART;TZID=UTC:20190331T173000
DTEND;TZID=UTC:20190331T210000
DTSTAMP:20260423T065839
CREATED:20181107T003141Z
LAST-MODIFIED:20181107T003141Z
UID:2008-1554053400-1554066000@magicspace.ca
SUMMARY:reserved for private party 5.30 p.m.-9.00 p.m.
DESCRIPTION:
URL:https://magicspace.ca/event/reserved-for-private-party-5-30-p-m-9-00-p-m-165/
END:VEVENT
BEGIN:VEVENT
DTSTART;TZID=UTC:20190330T173000
DTEND;TZID=UTC:20190330T210000
DTSTAMP:20260423T065839
CREATED:20180725T000046Z
LAST-MODIFIED:20180725T000046Z
UID:1801-1553967000-1553979600@magicspace.ca
SUMMARY:reserved for private party 5.30 p.m.-9.00 p.m.
DESCRIPTION:
URL:https://magicspace.ca/event/reserved-for-private-party-5-30-p-m-9-00-p-m-110/
END:VEVENT
BEGIN:VEVENT
DTSTART;TZID=UTC:20190329T173000
DTEND;TZID=UTC:20190329T210000
DTSTAMP:20260423T065839
CREATED:20190119T023239Z
LAST-MODIFIED:20190119T023239Z
UID:2160-1553880600-1553893200@magicspace.ca
SUMMARY:reserved for private party 5.30 p.m.-9.00 p.m.
DESCRIPTION:
URL:https://magicspace.ca/event/reserved-for-private-party-5-30-p-m-9-00-p-m-204/
END:VEVENT
BEGIN:VEVENT
DTSTART;TZID=UTC:20190329T140000
DTEND;TZID=UTC:20190329T170000
DTSTAMP:20260423T065839
CREATED:20190320T173557Z
LAST-MODIFIED:20190320T173557Z
UID:2290-1553868000-1553878800@magicspace.ca
SUMMARY:Daycare fieldtrip (40 kids) from 2:00 PM to 5:00 PM- Open to the public
DESCRIPTION:
URL:https://magicspace.ca/event/daycare-fieldtrip-40-kids-from-200-pm-to-500-pm-open-to-the-public/
END:VEVENT
BEGIN:VEVENT
DTSTART;TZID=UTC:20190328T173000
DTEND;TZID=UTC:20190328T210000
DTSTAMP:20260423T065839
CREATED:20190221T013557Z
LAST-MODIFIED:20190221T013557Z
UID:2221-1553794200-1553806800@magicspace.ca
SUMMARY:reserved for private party 5.30 p.m.-9.00 p.m.
DESCRIPTION:
URL:https://magicspace.ca/event/reserved-for-private-party-5-30-p-m-9-00-p-m-224/
END:VEVENT
END:VCALENDAR