BEGIN:VCALENDAR
VERSION:2.0
PRODID:-//Magic Space - ECPv6.3.5//NONSGML v1.0//EN
CALSCALE:GREGORIAN
METHOD:PUBLISH
X-WR-CALNAME:Magic Space
X-ORIGINAL-URL:https://magicspace.ca
X-WR-CALDESC:Events for Magic Space
REFRESH-INTERVAL;VALUE=DURATION:PT1H
X-Robots-Tag:noindex
X-PUBLISHED-TTL:PT1H
BEGIN:VTIMEZONE
TZID:UTC
BEGIN:STANDARD
TZOFFSETFROM:+0000
TZOFFSETTO:+0000
TZNAME:UTC
DTSTART:20190101T000000
END:STANDARD
END:VTIMEZONE
BEGIN:VEVENT
DTSTART;TZID=UTC:20190614T093000
DTEND;TZID=UTC:20190614T113000
DTSTAMP:20260423T041226
CREATED:20190613T150337Z
LAST-MODIFIED:20190613T150337Z
UID:2415-1560504600-1560511800@magicspace.ca
SUMMARY:Group 20 kids 9:30-11:30am OPEN to public
DESCRIPTION:
URL:https://magicspace.ca/event/group-20-kids-930-1130am-open-to-public-2/
END:VEVENT
BEGIN:VEVENT
DTSTART;TZID=UTC:20190613T093000
DTEND;TZID=UTC:20190613T113000
DTSTAMP:20260423T041226
CREATED:20190613T150238Z
LAST-MODIFIED:20190613T150238Z
UID:2413-1560418200-1560425400@magicspace.ca
SUMMARY:Group 20 kids 9:30-11:30am OPEN to public
DESCRIPTION:
URL:https://magicspace.ca/event/group-20-kids-930-1130am-open-to-public/
END:VEVENT
BEGIN:VEVENT
DTSTART;TZID=UTC:20190609T173000
DTEND;TZID=UTC:20190609T210000
DTSTAMP:20260423T041226
CREATED:20190129T042155Z
LAST-MODIFIED:20190129T042155Z
UID:2186-1560101400-1560114000@magicspace.ca
SUMMARY:reserved for private party 5.30 p.m.-9.00 p.m.
DESCRIPTION:
URL:https://magicspace.ca/event/reserved-for-private-party-5-30-p-m-9-00-p-m-214/
END:VEVENT
BEGIN:VEVENT
DTSTART;TZID=UTC:20190608T173000
DTEND;TZID=UTC:20190608T210000
DTSTAMP:20260423T041226
CREATED:20181211T230241Z
LAST-MODIFIED:20181211T230241Z
UID:2056-1560015000-1560027600@magicspace.ca
SUMMARY:reserved for private party 5:30pm - 9:00pm
DESCRIPTION:
URL:https://magicspace.ca/event/reserved-for-private-party-530pm-900pm/
END:VEVENT
BEGIN:VEVENT
DTSTART;TZID=UTC:20190607T173000
DTEND;TZID=UTC:20190607T210000
DTSTAMP:20260423T041226
CREATED:20190330T010859Z
LAST-MODIFIED:20190330T010859Z
UID:2310-1559928600-1559941200@magicspace.ca
SUMMARY:reserved for private party 5.30 p.m.-9.00 p.m.
DESCRIPTION:
URL:https://magicspace.ca/event/reserved-for-private-party-5-30-p-m-9-00-p-m-248/
END:VEVENT
BEGIN:VEVENT
DTSTART;TZID=UTC:20190607T120000
DTEND;TZID=UTC:20190607T140000
DTSTAMP:20260423T041226
CREATED:20190604T154810Z
LAST-MODIFIED:20190604T154810Z
UID:2392-1559908800-1559916000@magicspace.ca
SUMMARY:Daycare 21 kids 12pm-2pm OPEN to public
DESCRIPTION:
URL:https://magicspace.ca/event/daycare-21-kids-12pm-2pm-open-to-public/
END:VEVENT
BEGIN:VEVENT
DTSTART;TZID=UTC:20190607T090000
DTEND;TZID=UTC:20190607T110000
DTSTAMP:20260423T041226
CREATED:20190604T154728Z
LAST-MODIFIED:20190604T154728Z
UID:2390-1559898000-1559905200@magicspace.ca
SUMMARY:Daycare 36 kids 9am-11am OPEN to public
DESCRIPTION:
URL:https://magicspace.ca/event/daycare-36-kids-9am-11am-open-to-public/
END:VEVENT
BEGIN:VEVENT
DTSTART;TZID=UTC:20190606T120000
DTEND;TZID=UTC:20190606T140000
DTSTAMP:20260423T041226
CREATED:20190604T153205Z
LAST-MODIFIED:20190604T154938Z
UID:2387-1559822400-1559829600@magicspace.ca
SUMMARY:Daycare 18 kids 12pm-2pm OPEN to public
DESCRIPTION:
URL:https://magicspace.ca/event/daycare-18-kids-12pm-2pm-open-to-public/
END:VEVENT
BEGIN:VEVENT
DTSTART;TZID=UTC:20190606T090000
DTEND;TZID=UTC:20190606T110000
DTSTAMP:20260423T041226
CREATED:20190604T153050Z
LAST-MODIFIED:20190604T154628Z
UID:2385-1559811600-1559818800@magicspace.ca
SUMMARY:Daycare 36 kids 9am-11am OPEN to public
DESCRIPTION:
URL:https://magicspace.ca/event/daycare-36-kids-open-to-public-9am-11am/
END:VEVENT
BEGIN:VEVENT
DTSTART;TZID=UTC:20190602T173000
DTEND;TZID=UTC:20190602T210000
DTSTAMP:20260423T041226
CREATED:20190202T031726Z
LAST-MODIFIED:20190202T031726Z
UID:2196-1559496600-1559509200@magicspace.ca
SUMMARY:reserved for private party 5.30 p.m.-9.00 p.m.
DESCRIPTION:
URL:https://magicspace.ca/event/reserved-for-private-party-5-30-p-m-9-00-p-m-218/
END:VEVENT
BEGIN:VEVENT
DTSTART;TZID=UTC:20190601T173000
DTEND;TZID=UTC:20190601T210000
DTSTAMP:20260423T041226
CREATED:20181211T230012Z
LAST-MODIFIED:20181211T230118Z
UID:2053-1559410200-1559422800@magicspace.ca
SUMMARY:reserved for private party 5:30pm-9:00pm
DESCRIPTION:
URL:https://magicspace.ca/event/reserved-for-private-party-530-9pm/
END:VEVENT
BEGIN:VEVENT
DTSTART;TZID=UTC:20190531T173000
DTEND;TZID=UTC:20190531T210000
DTSTAMP:20260423T041226
CREATED:20190221T002516Z
LAST-MODIFIED:20190221T002516Z
UID:2219-1559323800-1559336400@magicspace.ca
SUMMARY:reserved for private party 5.30 p.m.-9.00 p.m.
DESCRIPTION:
URL:https://magicspace.ca/event/reserved-for-private-party-5-30-p-m-9-00-p-m-223/
END:VEVENT
BEGIN:VEVENT
DTSTART;TZID=UTC:20190530T173000
DTEND;TZID=UTC:20190530T210000
DTSTAMP:20260423T041226
CREATED:20190506T234927Z
LAST-MODIFIED:20190506T234927Z
UID:2367-1559237400-1559250000@magicspace.ca
SUMMARY:reserved for private party 5.30 p.m.-9.00 p.m.
DESCRIPTION:
URL:https://magicspace.ca/event/reserved-for-private-party-5-30-p-m-9-00-p-m-201/
END:VEVENT
BEGIN:VEVENT
DTSTART;TZID=UTC:20190526T173000
DTEND;TZID=UTC:20190526T210000
DTSTAMP:20260423T041226
CREATED:20190307T183505Z
LAST-MODIFIED:20190307T183505Z
UID:2260-1558891800-1558904400@magicspace.ca
SUMMARY:Reserved for private party 530pm-9pm
DESCRIPTION:
URL:https://magicspace.ca/event/reserved-for-private-party-530pm-9pm-2/
END:VEVENT
BEGIN:VEVENT
DTSTART;TZID=UTC:20190525T173000
DTEND;TZID=UTC:20190525T210000
DTSTAMP:20260423T041226
CREATED:20180901T223011Z
LAST-MODIFIED:20180901T223011Z
UID:1898-1558805400-1558818000@magicspace.ca
SUMMARY:reserved for private party 5.30 p.m.-9.00 p.m.
DESCRIPTION:
URL:https://magicspace.ca/event/reserved-for-private-party-5-30-p-m-9-00-p-m-135/
END:VEVENT
BEGIN:VEVENT
DTSTART;TZID=UTC:20190524T173000
DTEND;TZID=UTC:20190524T210000
DTSTAMP:20260423T041226
CREATED:20190215T010930Z
LAST-MODIFIED:20190215T010930Z
UID:2215-1558719000-1558731600@magicspace.ca
SUMMARY:reserved for private party 5.30 p.m.-9.00 p.m.
DESCRIPTION:
URL:https://magicspace.ca/event/reserved-for-private-party-5-30-p-m-9-00-p-m-222/
END:VEVENT
BEGIN:VEVENT
DTSTART;TZID=UTC:20190520T173000
DTEND;TZID=UTC:20190520T210000
DTSTAMP:20260423T041226
CREATED:20190403T232826Z
LAST-MODIFIED:20190403T232826Z
UID:2321-1558373400-1558386000@magicspace.ca
SUMMARY:reserved for private party 5.30 p.m.-9.00 p.m.
DESCRIPTION:
URL:https://magicspace.ca/event/reserved-for-private-party-5-30-p-m-9-00-p-m-253/
END:VEVENT
BEGIN:VEVENT
DTSTART;TZID=UTC:20190518T173000
DTEND;TZID=UTC:20190518T210000
DTSTAMP:20260423T041226
CREATED:20190109T002501Z
LAST-MODIFIED:20190109T002501Z
UID:2116-1558200600-1558213200@magicspace.ca
SUMMARY:reserved for private party 5.30 p.m.-9.00 p.m.
DESCRIPTION:
URL:https://magicspace.ca/event/reserved-for-private-party-5-30-p-m-9-00-p-m-193/
END:VEVENT
BEGIN:VEVENT
DTSTART;TZID=UTC:20190512T173000
DTEND;TZID=UTC:20190512T210000
DTSTAMP:20260423T041226
CREATED:20190303T004647Z
LAST-MODIFIED:20190303T004647Z
UID:2239-1557682200-1557694800@magicspace.ca
SUMMARY:reserved for private party 5.30 p.m.-9.00 p.m.
DESCRIPTION:
URL:https://magicspace.ca/event/reserved-for-private-party-5-30-p-m-9-00-p-m-228/
END:VEVENT
BEGIN:VEVENT
DTSTART;TZID=UTC:20190511T173000
DTEND;TZID=UTC:20190511T210000
DTSTAMP:20260423T041226
CREATED:20181106T000418Z
LAST-MODIFIED:20181106T000418Z
UID:2003-1557595800-1557608400@magicspace.ca
SUMMARY:reserved for private party 5.30 p.m.-9.00 p.m.
DESCRIPTION:
URL:https://magicspace.ca/event/reserved-for-private-party-5-30-p-m-9-00-p-m-164/
END:VEVENT
BEGIN:VEVENT
DTSTART;TZID=UTC:20190510T173000
DTEND;TZID=UTC:20190510T210000
DTSTAMP:20260423T041226
CREATED:20190223T232602Z
LAST-MODIFIED:20190223T232602Z
UID:2226-1557509400-1557522000@magicspace.ca
SUMMARY:reserved for private party 5.30 p.m.-9.00 p.m.
DESCRIPTION:
URL:https://magicspace.ca/event/reserved-for-private-party-5-30-p-m-9-00-p-m-226/
END:VEVENT
BEGIN:VEVENT
DTSTART;TZID=UTC:20190509T173000
DTEND;TZID=UTC:20190509T210000
DTSTAMP:20260423T041226
CREATED:20190328T001242Z
LAST-MODIFIED:20190328T001242Z
UID:2308-1557423000-1557435600@magicspace.ca
SUMMARY:reserved for private party 5.30 p.m.-9.00 p.m.
DESCRIPTION:
URL:https://magicspace.ca/event/reserved-for-private-party-5-30-p-m-9-00-p-m-247/
END:VEVENT
BEGIN:VEVENT
DTSTART;TZID=UTC:20190506T173000
DTEND;TZID=UTC:20190506T210000
DTSTAMP:20260423T041226
CREATED:20190330T014900Z
LAST-MODIFIED:20190330T014900Z
UID:2312-1557163800-1557176400@magicspace.ca
SUMMARY:reserved for private party 5.30 p.m.-9.00 p.m.
DESCRIPTION:
URL:https://magicspace.ca/event/reserved-for-private-party-5-30-p-m-9-00-p-m-249/
END:VEVENT
BEGIN:VEVENT
DTSTART;TZID=UTC:20190505T173000
DTEND;TZID=UTC:20190505T210000
DTSTAMP:20260423T041226
CREATED:20190305T171551Z
LAST-MODIFIED:20190305T171551Z
UID:2256-1557077400-1557090000@magicspace.ca
SUMMARY:Reserved for Private Party 5:30pm-9pm
DESCRIPTION:
URL:https://magicspace.ca/event/reserved-for-private-party-530pm-9pm/
END:VEVENT
BEGIN:VEVENT
DTSTART;TZID=UTC:20190504T173000
DTEND;TZID=UTC:20190504T210000
DTSTAMP:20260423T041226
CREATED:20190106T191737Z
LAST-MODIFIED:20190106T191737Z
UID:2107-1556991000-1557003600@magicspace.ca
SUMMARY:reserved for private party 5.30 p.m.-9.00 p.m.
DESCRIPTION:
URL:https://magicspace.ca/event/reserved-for-private-party-5-30-p-m-9-00-p-m-189/
END:VEVENT
BEGIN:VEVENT
DTSTART;TZID=UTC:20190503T173000
DTEND;TZID=UTC:20190503T210000
DTSTAMP:20260423T041226
CREATED:20190124T232029Z
LAST-MODIFIED:20190124T232029Z
UID:2177-1556904600-1556917200@magicspace.ca
SUMMARY:reserved for private party 5.30 p.m.-9.00 p.m.
DESCRIPTION:
URL:https://magicspace.ca/event/reserved-for-private-party-5-30-p-m-9-00-p-m-210/
END:VEVENT
BEGIN:VEVENT
DTSTART;TZID=UTC:20190503T100000
DTEND;TZID=UTC:20190503T140000
DTSTAMP:20260423T041226
CREATED:20190502T155315Z
LAST-MODIFIED:20190502T155315Z
UID:2365-1556877600-1556892000@magicspace.ca
SUMMARY:group booking 30 kids (open to public)
DESCRIPTION:
URL:https://magicspace.ca/event/group-booking-30-kids-open-to-public/
END:VEVENT
BEGIN:VEVENT
DTSTART;TZID=UTC:20190502T173000
DTEND;TZID=UTC:20190502T210000
DTSTAMP:20260423T041226
CREATED:20190310T015637Z
LAST-MODIFIED:20190310T015637Z
UID:2272-1556818200-1556830800@magicspace.ca
SUMMARY:reserved for private party 5.30 p.m.-9.00 p.m.
DESCRIPTION:
URL:https://magicspace.ca/event/reserved-for-private-party-5-30-p-m-9-00-p-m-237/
END:VEVENT
BEGIN:VEVENT
DTSTART;TZID=UTC:20190502T100000
DTEND;TZID=UTC:20190502T140000
DTSTAMP:20260423T041226
CREATED:20190502T155225Z
LAST-MODIFIED:20190502T155225Z
UID:2363-1556791200-1556805600@magicspace.ca
SUMMARY:Group booking 40 kids (open to public)
DESCRIPTION:
URL:https://magicspace.ca/event/group-booking-40-kids-open-to-public/
END:VEVENT
BEGIN:VEVENT
DTSTART;TZID=UTC:20190428T173000
DTEND;TZID=UTC:20190428T210000
DTSTAMP:20260423T041226
CREATED:20181226T062712Z
LAST-MODIFIED:20181226T062712Z
UID:2084-1556472600-1556485200@magicspace.ca
SUMMARY:reserved for private party 5.30 p.m.-9.00 p.m.
DESCRIPTION:[one_half_last]
URL:https://magicspace.ca/event/reserved-for-private-party-5-30-p-m-9-00-p-m-181/
END:VEVENT
END:VCALENDAR