BEGIN:VCALENDAR
VERSION:2.0
PRODID:-//Magic Space - ECPv6.3.5//NONSGML v1.0//EN
CALSCALE:GREGORIAN
METHOD:PUBLISH
X-WR-CALNAME:Magic Space
X-ORIGINAL-URL:https://magicspace.ca
X-WR-CALDESC:Events for Magic Space
REFRESH-INTERVAL;VALUE=DURATION:PT1H
X-Robots-Tag:noindex
X-PUBLISHED-TTL:PT1H
BEGIN:VTIMEZONE
TZID:UTC
BEGIN:STANDARD
TZOFFSETFROM:+0000
TZOFFSETTO:+0000
TZNAME:UTC
DTSTART:20190101T000000
END:STANDARD
END:VTIMEZONE
BEGIN:VEVENT
DTSTART;TZID=UTC:20190826T093000
DTEND;TZID=UTC:20190826T123000
DTSTAMP:20260422T214721
CREATED:20190813T223207Z
LAST-MODIFIED:20190813T223207Z
UID:2547-1566811800-1566822600@magicspace.ca
SUMMARY:Group 40 Kids 930 am -1230 pm OPEN to Public
DESCRIPTION:
URL:https://magicspace.ca/event/group-40-kids-930-am-1230-pm-open-to-public-2/
END:VEVENT
BEGIN:VEVENT
DTSTART;TZID=UTC:20190825T173000
DTEND;TZID=UTC:20190825T210000
DTSTAMP:20260422T214721
CREATED:20190627T010630Z
LAST-MODIFIED:20190627T010630Z
UID:2447-1566754200-1566766800@magicspace.ca
SUMMARY:reserved for private party 5.30 p.m.-9.00 p.m.
DESCRIPTION:
URL:https://magicspace.ca/event/reserved-for-private-party-5-30-p-m-9-00-p-m-244/
END:VEVENT
BEGIN:VEVENT
DTSTART;TZID=UTC:20190824T173000
DTEND;TZID=UTC:20190824T210000
DTSTAMP:20260422T214721
CREATED:20190601T235930Z
LAST-MODIFIED:20190601T235930Z
UID:2381-1566667800-1566680400@magicspace.ca
SUMMARY:reserved for private party 5.30 p.m.-9.00 p.m.
DESCRIPTION:
URL:https://magicspace.ca/event/reserved-for-private-party-5-30-p-m-9-00-p-m-266/
END:VEVENT
BEGIN:VEVENT
DTSTART;TZID=UTC:20190820T090000
DTEND;TZID=UTC:20190820T120000
DTSTAMP:20260422T214721
CREATED:20190813T223101Z
LAST-MODIFIED:20190813T223101Z
UID:2545-1566291600-1566302400@magicspace.ca
SUMMARY:Group 24 Kids 9 am - 12 pm OPEN to Public
DESCRIPTION:
URL:https://magicspace.ca/event/group-24-kids-9-am-12-pm-open-to-public/
END:VEVENT
BEGIN:VEVENT
DTSTART;TZID=UTC:20190818T173000
DTEND;TZID=UTC:20190818T210000
DTSTAMP:20260422T214721
CREATED:20190720T224625Z
LAST-MODIFIED:20190720T224625Z
UID:2488-1566149400-1566162000@magicspace.ca
SUMMARY:reserved for private party 5.30 p.m.-9.00 p.m.
DESCRIPTION:
URL:https://magicspace.ca/event/reserved-for-private-party-5-30-p-m-9-00-p-m-288/
END:VEVENT
BEGIN:VEVENT
DTSTART;TZID=UTC:20190817T173000
DTEND;TZID=UTC:20190817T210000
DTSTAMP:20260422T214721
CREATED:20190628T233603Z
LAST-MODIFIED:20190628T233603Z
UID:2451-1566063000-1566075600@magicspace.ca
SUMMARY:reserved for private party 5.30 p.m.-9.00 p.m.
DESCRIPTION:
URL:https://magicspace.ca/event/reserved-for-private-party-5-30-p-m-9-00-p-m-279/
END:VEVENT
BEGIN:VEVENT
DTSTART;TZID=UTC:20190816T093000
DTEND;TZID=UTC:20190816T123000
DTSTAMP:20260422T214721
CREATED:20190813T222856Z
LAST-MODIFIED:20190813T222856Z
UID:2542-1565947800-1565958600@magicspace.ca
SUMMARY:Group 40 Kids 930 am - 1230 pm OPEN to Public
DESCRIPTION:
URL:https://magicspace.ca/event/group-40-kids-930-am-1230-pm-open-to-public/
END:VEVENT
BEGIN:VEVENT
DTSTART;TZID=UTC:20190815T100000
DTEND;TZID=UTC:20190815T113000
DTSTAMP:20260422T214721
CREATED:20190813T222717Z
LAST-MODIFIED:20190813T222933Z
UID:2540-1565863200-1565868600@magicspace.ca
SUMMARY:Group 18 kids 10 am- 1130 am OPEN to Public
DESCRIPTION:
URL:https://magicspace.ca/event/group-18-kids-10-am-1130-am/
END:VEVENT
BEGIN:VEVENT
DTSTART;TZID=UTC:20190812T173000
DTEND;TZID=UTC:20190812T210000
DTSTAMP:20260422T214721
CREATED:20190731T230207Z
LAST-MODIFIED:20190731T230207Z
UID:2506-1565631000-1565643600@magicspace.ca
SUMMARY:reserved for private party 5.30 p.m-9.00 p.m
DESCRIPTION:
URL:https://magicspace.ca/event/reserved-for-private-party-5-30-p-m-9-00-p-m-294/
END:VEVENT
BEGIN:VEVENT
DTSTART;TZID=UTC:20190811T173000
DTEND;TZID=UTC:20190811T210000
DTSTAMP:20260422T214721
CREATED:20190713T000434Z
LAST-MODIFIED:20190713T000434Z
UID:2479-1565544600-1565557200@magicspace.ca
SUMMARY:reserved for private party 5.30 p.m.-9.00 p.m.
DESCRIPTION:
URL:https://magicspace.ca/event/reserved-for-private-party-5-30-p-m-9-00-p-m-286/
END:VEVENT
BEGIN:VEVENT
DTSTART;TZID=UTC:20190810T173000
DTEND;TZID=UTC:20190810T210000
DTSTAMP:20260422T214721
CREATED:20190628T001202Z
LAST-MODIFIED:20190628T001202Z
UID:2449-1565458200-1565470800@magicspace.ca
SUMMARY:reserved for private party 5.30 p.m.-9.00 p.m.
DESCRIPTION:
URL:https://magicspace.ca/event/reserved-for-private-party-5-30-p-m-9-00-p-m-278/
END:VEVENT
BEGIN:VEVENT
DTSTART;TZID=UTC:20190809T173000
DTEND;TZID=UTC:20190809T210000
DTSTAMP:20260422T214721
CREATED:20190711T235919Z
LAST-MODIFIED:20190711T235919Z
UID:2477-1565371800-1565384400@magicspace.ca
SUMMARY:reserved for private party 5.30 p.m.-9.00 p.m.
DESCRIPTION:
URL:https://magicspace.ca/event/reserved-for-private-party-5-30-p-m-9-00-p-m-285/
END:VEVENT
BEGIN:VEVENT
DTSTART;TZID=UTC:20190808T173000
DTEND;TZID=UTC:20190808T210000
DTSTAMP:20260422T214721
CREATED:20190718T000709Z
LAST-MODIFIED:20190718T000709Z
UID:2483-1565285400-1565298000@magicspace.ca
SUMMARY:reserved for private party 5.30 p.m.-9.00 p.m.
DESCRIPTION:
URL:https://magicspace.ca/event/reserved-for-private-party-5-30-p-m-9-00-p-m-287/
END:VEVENT
BEGIN:VEVENT
DTSTART;TZID=UTC:20190804T173000
DTEND;TZID=UTC:20190804T210000
DTSTAMP:20260422T214721
CREATED:20190618T230005Z
LAST-MODIFIED:20190618T230005Z
UID:2435-1564939800-1564952400@magicspace.ca
SUMMARY:reserved for private party 5.30 p.m.-9.00 p.m.
DESCRIPTION:
URL:https://magicspace.ca/event/reserved-for-private-party-5-30-p-m-9-00-p-m-274/
END:VEVENT
BEGIN:VEVENT
DTSTART;TZID=UTC:20190803T173000
DTEND;TZID=UTC:20190803T210000
DTSTAMP:20260422T214721
CREATED:20190309T032949Z
LAST-MODIFIED:20190309T032949Z
UID:2265-1564853400-1564866000@magicspace.ca
SUMMARY:reserved for private party 5.30 p.m.-9.00 p.m.
DESCRIPTION:
URL:https://magicspace.ca/event/reserved-for-private-party-5-30-p-m-9-00-p-m-234/
END:VEVENT
BEGIN:VEVENT
DTSTART;TZID=UTC:20190802T173000
DTEND;TZID=UTC:20190802T210000
DTSTAMP:20260422T214721
CREATED:20190407T130834Z
LAST-MODIFIED:20190407T130834Z
UID:2332-1564767000-1564779600@magicspace.ca
SUMMARY:reserved for private party 5.30 p.m.-9.00 p.m
DESCRIPTION:
URL:https://magicspace.ca/event/reserved-for-private-party-5-30-p-m-9-00-p-m-256/
END:VEVENT
BEGIN:VEVENT
DTSTART;TZID=UTC:20190730T080000
DTEND;TZID=UTC:20190730T110000
DTSTAMP:20260422T214721
CREATED:20190721T165244Z
LAST-MODIFIED:20190721T165244Z
UID:2492-1564473600-1564484400@magicspace.ca
SUMMARY:Annual fire inspection 8.00 a.m.-11.00 a.m. (possible alarm sound) .We are open for the public.
DESCRIPTION:
URL:https://magicspace.ca/event/annual-fire-inspection-8-00-a-m-11-00-a-m-possible-alarm-sound-we-are-open-for-the-public/
END:VEVENT
BEGIN:VEVENT
DTSTART;TZID=UTC:20190728T173000
DTEND;TZID=UTC:20190728T210000
DTSTAMP:20260422T214721
CREATED:20190316T150645Z
LAST-MODIFIED:20190316T150645Z
UID:2281-1564335000-1564347600@magicspace.ca
SUMMARY:reserved for private party 5.30 p.m.-9.00 p.m.
DESCRIPTION:
URL:https://magicspace.ca/event/reserved-for-private-party-5-30-p-m-9-00-p-m-241/
END:VEVENT
BEGIN:VEVENT
DTSTART;TZID=UTC:20190727T173000
DTEND;TZID=UTC:20190727T210000
DTSTAMP:20260422T214721
CREATED:20181025T234622Z
LAST-MODIFIED:20181025T234622Z
UID:1988-1564248600-1564261200@magicspace.ca
SUMMARY:reserved for private party 5.30 p.m.-9.00 p.m.
DESCRIPTION:
URL:https://magicspace.ca/event/reserved-for-private-party-5-30-p-m-9-00-p-m-161/
END:VEVENT
BEGIN:VEVENT
DTSTART;TZID=UTC:20190726T173000
DTEND;TZID=UTC:20190726T210000
DTSTAMP:20260422T214721
CREATED:20190310T014814Z
LAST-MODIFIED:20190310T014814Z
UID:2270-1564162200-1564174800@magicspace.ca
SUMMARY:reserved for private party 5.30 p.m.-9.00 p.m.
DESCRIPTION:
URL:https://magicspace.ca/event/reserved-for-private-party-5-30-p-m-9-00-p-m-236/
END:VEVENT
BEGIN:VEVENT
DTSTART;TZID=UTC:20190721T173000
DTEND;TZID=UTC:20190721T210000
DTSTAMP:20260422T214721
CREATED:20190311T024436Z
LAST-MODIFIED:20190311T024436Z
UID:2277-1563730200-1563742800@magicspace.ca
SUMMARY:reserved for private party 5.30 p.m.-9.00 p.m.
DESCRIPTION:
URL:https://magicspace.ca/event/reserved-for-private-party-5-30-p-m-9-00-p-m-239/
END:VEVENT
BEGIN:VEVENT
DTSTART;TZID=UTC:20190720T173000
DTEND;TZID=UTC:20190720T210000
DTSTAMP:20260422T214721
CREATED:20190120T223547Z
LAST-MODIFIED:20190120T223547Z
UID:2169-1563643800-1563656400@magicspace.ca
SUMMARY:reserved for private party 5.30 p.m.-9.00 p.m.
DESCRIPTION:
URL:https://magicspace.ca/event/reserved-for-private-party-5-30-p-m-9-00-p-m-207/
END:VEVENT
BEGIN:VEVENT
DTSTART;TZID=UTC:20190719T173000
DTEND;TZID=UTC:20190719T210000
DTSTAMP:20260422T214721
CREATED:20190331T222759Z
LAST-MODIFIED:20190331T222759Z
UID:2314-1563557400-1563570000@magicspace.ca
SUMMARY:reserved for private party 5.30 p.m.-9.00 p.m.
DESCRIPTION:
URL:https://magicspace.ca/event/reserved-for-private-party-5-30-p-m-9-00-p-m-250/
END:VEVENT
BEGIN:VEVENT
DTSTART;TZID=UTC:20190714T173000
DTEND;TZID=UTC:20190714T210000
DTSTAMP:20260422T214721
CREATED:20190512T224528Z
LAST-MODIFIED:20190512T224528Z
UID:2373-1563125400-1563138000@magicspace.ca
SUMMARY:reserved for private party 5:30 pm - 9:00 pm
DESCRIPTION:
URL:https://magicspace.ca/event/reserved-for-private-party-530-pm-900-pm/
END:VEVENT
BEGIN:VEVENT
DTSTART;TZID=UTC:20190713T173000
DTEND;TZID=UTC:20190713T210000
DTSTAMP:20260422T214721
CREATED:20190222T000504Z
LAST-MODIFIED:20190222T000504Z
UID:2224-1563039000-1563051600@magicspace.ca
SUMMARY:reserved for private party 5.30 p.m.-9.00 p.m.
DESCRIPTION:
URL:https://magicspace.ca/event/reserved-for-private-party-5-30-p-m-9-00-p-m-225/
END:VEVENT
BEGIN:VEVENT
DTSTART;TZID=UTC:20190712T173000
DTEND;TZID=UTC:20190712T210000
DTSTAMP:20260422T214721
CREATED:20190515T232637Z
LAST-MODIFIED:20190515T232637Z
UID:2376-1562952600-1562965200@magicspace.ca
SUMMARY:reserved for private party 5.30 p.m.-9.00 p.m.
DESCRIPTION:
URL:https://magicspace.ca/event/reserved-for-private-party-5-30-p-m-9-00-p-m-265/
END:VEVENT
BEGIN:VEVENT
DTSTART;TZID=UTC:20190709T173000
DTEND;TZID=UTC:20190709T210000
DTSTAMP:20260422T214721
CREATED:20190424T131914Z
LAST-MODIFIED:20190424T131914Z
UID:2344-1562693400-1562706000@magicspace.ca
SUMMARY:reserved for private party 5.30 p.m.-9.00 p.m.
DESCRIPTION:
URL:https://magicspace.ca/event/reserved-for-private-party-5-30-p-m-9-00-p-m-260/
END:VEVENT
BEGIN:VEVENT
DTSTART;TZID=UTC:20190708T173000
DTEND;TZID=UTC:20190708T210000
DTSTAMP:20260422T214721
CREATED:20190408T010740Z
LAST-MODIFIED:20190408T010740Z
UID:2334-1562607000-1562619600@magicspace.ca
SUMMARY:reserved for private party 5.30 p.m.-9.00 p.m.
DESCRIPTION:
URL:https://magicspace.ca/event/reserved-for-private-party-5-30-p-m-9-00-p-m-257/
END:VEVENT
BEGIN:VEVENT
DTSTART;TZID=UTC:20190707T173000
DTEND;TZID=UTC:20190707T210000
DTSTAMP:20260422T214721
CREATED:20190706T222929Z
LAST-MODIFIED:20190706T222929Z
UID:2458-1562520600-1562533200@magicspace.ca
SUMMARY:reserved for private party 5.30 p.m.-9.00 p.m.
DESCRIPTION:
URL:https://magicspace.ca/event/reserved-for-private-party-5-30-p-m-9-00-p-m-281/
END:VEVENT
BEGIN:VEVENT
DTSTART;TZID=UTC:20190705T173000
DTEND;TZID=UTC:20190705T210000
DTSTAMP:20260422T214721
CREATED:20190619T234759Z
LAST-MODIFIED:20190619T234759Z
UID:2437-1562347800-1562360400@magicspace.ca
SUMMARY:reserved for private party 5.30 p.m.-9.00 p.m.
DESCRIPTION:
URL:https://magicspace.ca/event/reserved-for-private-party-5-30-p-m-9-00-p-m-275/
END:VEVENT
END:VCALENDAR