BEGIN:VCALENDAR
VERSION:2.0
PRODID:-//Magic Space - ECPv6.3.5//NONSGML v1.0//EN
CALSCALE:GREGORIAN
METHOD:PUBLISH
X-WR-CALNAME:Magic Space
X-ORIGINAL-URL:https://magicspace.ca
X-WR-CALDESC:Events for Magic Space
REFRESH-INTERVAL;VALUE=DURATION:PT1H
X-Robots-Tag:noindex
X-PUBLISHED-TTL:PT1H
BEGIN:VTIMEZONE
TZID:UTC
BEGIN:STANDARD
TZOFFSETFROM:+0000
TZOFFSETTO:+0000
TZNAME:UTC
DTSTART:20190101T000000
END:STANDARD
END:VTIMEZONE
BEGIN:VEVENT
DTSTART;VALUE=DATE:20191225
DTEND;VALUE=DATE:20191226
DTSTAMP:20260421T233641
CREATED:20191017T170640Z
LAST-MODIFIED:20191017T170640Z
UID:2668-1577232000-1577318399@magicspace.ca
SUMMARY:Merry Christmas - Closed all day
DESCRIPTION:
URL:https://magicspace.ca/event/merry-christmas-closed-all-day/
END:VEVENT
BEGIN:VEVENT
DTSTART;TZID=UTC:20191224T173000
DTEND;TZID=UTC:20191224T210000
DTSTAMP:20260421T233641
CREATED:20181228T021030Z
LAST-MODIFIED:20181228T021030Z
UID:2091-1577208600-1577221200@magicspace.ca
SUMMARY:reserved for private party 5.30 p.m.-9.00 p.m.
DESCRIPTION:
URL:https://magicspace.ca/event/reserved-for-private-party-5-30-p-m-9-00-p-m-183/
END:VEVENT
BEGIN:VEVENT
DTSTART;TZID=UTC:20191224T090000
DTEND;TZID=UTC:20191224T150000
DTSTAMP:20260421T233641
CREATED:20191217T214643Z
LAST-MODIFIED:20191217T214643Z
UID:2789-1577178000-1577199600@magicspace.ca
SUMMARY:Open from 9:00 am to 3:00 pm
DESCRIPTION:
URL:https://magicspace.ca/event/open-from-900-am-to-300-pm/
END:VEVENT
BEGIN:VEVENT
DTSTART;TZID=UTC:20191223T173000
DTEND;TZID=UTC:20191223T210000
DTSTAMP:20260421T233641
CREATED:20190822T034458Z
LAST-MODIFIED:20190822T034458Z
UID:2569-1577122200-1577134800@magicspace.ca
SUMMARY:reserved for private party 5.30 p.m.-9.00 p.m.
DESCRIPTION:
URL:https://magicspace.ca/event/reserved-for-private-party-5-30-p-m-9-00-p-m-311/
END:VEVENT
BEGIN:VEVENT
DTSTART;TZID=UTC:20191222T173000
DTEND;TZID=UTC:20191222T193000
DTSTAMP:20260421T233641
CREATED:20191207T185001Z
LAST-MODIFIED:20191217T213123Z
UID:2774-1577035800-1577043000@magicspace.ca
SUMMARY:Reserved for private party from 7:00 pm to 11:00 pm
DESCRIPTION:
URL:https://magicspace.ca/event/available-for-semiprivate-or-private-515-p-m-to-745-p-m-20-off/
END:VEVENT
BEGIN:VEVENT
DTSTART;TZID=UTC:20191221T173000
DTEND;TZID=UTC:20191221T210000
DTSTAMP:20260421T233641
CREATED:20190906T235121Z
LAST-MODIFIED:20190906T235121Z
UID:2624-1576949400-1576962000@magicspace.ca
SUMMARY:reserved for private party 5.30 p.m.-9.00 p.m.
DESCRIPTION:
URL:https://magicspace.ca/event/reserved-for-private-party-5-30-p-m-9-00-p-m-326/
END:VEVENT
BEGIN:VEVENT
DTSTART;TZID=UTC:20191220T173000
DTEND;TZID=UTC:20191220T210000
DTSTAMP:20260421T233641
CREATED:20190902T182901Z
LAST-MODIFIED:20190902T182901Z
UID:2620-1576863000-1576875600@magicspace.ca
SUMMARY:reserved for private party 5.30 p.m.-9.00 p.m.
DESCRIPTION:
URL:https://magicspace.ca/event/reserved-for-private-party-5-30-p-m-9-00-p-m-324/
END:VEVENT
BEGIN:VEVENT
DTSTART;TZID=UTC:20191216T173000
DTEND;TZID=UTC:20191216T210000
DTSTAMP:20260421T233641
CREATED:20191123T040224Z
LAST-MODIFIED:20191123T040224Z
UID:2717-1576517400-1576530000@magicspace.ca
SUMMARY:reserved for private party 5.30 p.m.-9.00 p.m.
DESCRIPTION:
URL:https://magicspace.ca/event/reserved-for-private-party-5-30-p-m-9-00-p-m-350/
END:VEVENT
BEGIN:VEVENT
DTSTART;TZID=UTC:20191215T173000
DTEND;TZID=UTC:20191215T210000
DTSTAMP:20260421T233641
CREATED:20191104T232517Z
LAST-MODIFIED:20191104T232517Z
UID:2689-1576431000-1576443600@magicspace.ca
SUMMARY:reserved for private party 5.30 p.m.-9.00 p.m.
DESCRIPTION:
URL:https://magicspace.ca/event/reserved-for-private-party-5-30-p-m-9-00-p-m-344/
END:VEVENT
BEGIN:VEVENT
DTSTART;TZID=UTC:20191214T173000
DTEND;TZID=UTC:20191214T210000
DTSTAMP:20260421T233641
CREATED:20191013T013424Z
LAST-MODIFIED:20191013T013424Z
UID:2660-1576344600-1576357200@magicspace.ca
SUMMARY:reserved for private party 5.30 p.m.-9.00 p.m.
DESCRIPTION:
URL:https://magicspace.ca/event/reserved-for-private-party-5-30-p-m-9-00-p-m-336/
END:VEVENT
BEGIN:VEVENT
DTSTART;TZID=UTC:20191213T173000
DTEND;TZID=UTC:20191213T210000
DTSTAMP:20260421T233641
CREATED:20191130T040523Z
LAST-MODIFIED:20191130T040523Z
UID:2751-1576258200-1576270800@magicspace.ca
SUMMARY:reserved for private party 5.30 p.m.-9.00 p.m.
DESCRIPTION:
URL:https://magicspace.ca/event/reserved-for-private-party-5-30-p-m-9-00-p-m-351/
END:VEVENT
BEGIN:VEVENT
DTSTART;TZID=UTC:20191208T173000
DTEND;TZID=UTC:20191208T210000
DTSTAMP:20260421T233641
CREATED:20190822T034646Z
LAST-MODIFIED:20190822T034646Z
UID:2571-1575826200-1575838800@magicspace.ca
SUMMARY:reserved for private party 5.30 p.m.-9.00 p.m.
DESCRIPTION:
URL:https://magicspace.ca/event/reserved-for-private-party-5-30-p-m-9-00-p-m-312/
END:VEVENT
BEGIN:VEVENT
DTSTART;TZID=UTC:20191207T173000
DTEND;TZID=UTC:20191207T210000
DTSTAMP:20260421T233641
CREATED:20190708T235210Z
LAST-MODIFIED:20190708T235210Z
UID:2462-1575739800-1575752400@magicspace.ca
SUMMARY:reserved for private party 5.30 p.m.-9.00 p.m.
DESCRIPTION:
URL:https://magicspace.ca/event/reserved-for-private-party-5-30-p-m-9-00-p-m-282/
END:VEVENT
BEGIN:VEVENT
DTSTART;TZID=UTC:20191206T173000
DTEND;TZID=UTC:20191206T210000
DTSTAMP:20260421T233641
CREATED:20191101T230331Z
LAST-MODIFIED:20191101T230331Z
UID:2685-1575653400-1575666000@magicspace.ca
SUMMARY:reserved for private party 5.30 p.m.-9.00 p.m.
DESCRIPTION:
URL:https://magicspace.ca/event/reserved-for-private-party-5-30-p-m-9-00-p-m-343/
END:VEVENT
BEGIN:VEVENT
DTSTART;TZID=UTC:20191206T090000
DTEND;TZID=UTC:20191206T150000
DTSTAMP:20260421T233641
CREATED:20190826T023604Z
LAST-MODIFIED:20191206T034130Z
UID:2601-1575622800-1575644400@magicspace.ca
SUMMARY:Special kids group-Open to the public
DESCRIPTION:
URL:https://magicspace.ca/event/reserved-for-private-party-5-30-p-m-9-00-p-m-318/
END:VEVENT
BEGIN:VEVENT
DTSTART;TZID=UTC:20191206T080000
DTEND;TZID=UTC:20191206T170000
DTSTAMP:20260421T233641
CREATED:20191206T034518Z
LAST-MODIFIED:20191206T034518Z
UID:2770-1575619200-1575651600@magicspace.ca
SUMMARY:Happy New Year- Open from 12:00 to 5:00
DESCRIPTION:
URL:https://magicspace.ca/event/happy-new-year-open-from-1200-to-500/
END:VEVENT
BEGIN:VEVENT
DTSTART;TZID=UTC:20191205T173000
DTEND;TZID=UTC:20191205T210000
DTSTAMP:20260421T233641
CREATED:20191019T213752Z
LAST-MODIFIED:20191019T213752Z
UID:2672-1575567000-1575579600@magicspace.ca
SUMMARY:reserved for private party 5.30 p.m.-9.00 p.m.
DESCRIPTION:
URL:https://magicspace.ca/event/reserved-for-private-party-5-30-p-m-9-00-p-m-337/
END:VEVENT
BEGIN:VEVENT
DTSTART;TZID=UTC:20191202T173000
DTEND;TZID=UTC:20191202T210000
DTSTAMP:20260421T233641
CREATED:20190919T010554Z
LAST-MODIFIED:20190919T010554Z
UID:2630-1575307800-1575320400@magicspace.ca
SUMMARY:reserved for private party 5.30 p.m.-9.00 p.m.
DESCRIPTION:
URL:https://magicspace.ca/event/reserved-for-private-party-5-30-p-m-9-00-p-m-328/
END:VEVENT
BEGIN:VEVENT
DTSTART;TZID=UTC:20191201T170000
DTEND;TZID=UTC:20191201T213000
DTSTAMP:20260421T233641
CREATED:20191017T170301Z
LAST-MODIFIED:20191017T170354Z
UID:2665-1575219600-1575235800@magicspace.ca
SUMMARY:Reserved for Private Party 5:30 PM to 9:30 PM
DESCRIPTION:
URL:https://magicspace.ca/event/reserved-for-private-party-5/
END:VEVENT
BEGIN:VEVENT
DTSTART;TZID=UTC:20191130T173000
DTEND;TZID=UTC:20191130T210000
DTSTAMP:20260421T233641
CREATED:20190101T012633Z
LAST-MODIFIED:20190101T012633Z
UID:2101-1575135000-1575147600@magicspace.ca
SUMMARY:reserved for private party 5.30 p.m.-9.00 p.m.
DESCRIPTION:
URL:https://magicspace.ca/event/reserved-for-private-party-5-30-p-m-9-00-p-m-188/
END:VEVENT
BEGIN:VEVENT
DTSTART;TZID=UTC:20191129T173000
DTEND;TZID=UTC:20191129T210000
DTSTAMP:20260421T233641
CREATED:20190902T190615Z
LAST-MODIFIED:20190902T190615Z
UID:2622-1575048600-1575061200@magicspace.ca
SUMMARY:reserved for private party 5.30 p.m.-9.00 p.m.
DESCRIPTION:
URL:https://magicspace.ca/event/reserved-for-private-party-5-30-p-m-9-00-p-m-325/
END:VEVENT
BEGIN:VEVENT
DTSTART;TZID=UTC:20191128T173000
DTEND;TZID=UTC:20191128T210000
DTSTAMP:20260421T233641
CREATED:20191029T224917Z
LAST-MODIFIED:20191029T224917Z
UID:2683-1574962200-1574974800@magicspace.ca
SUMMARY:reserved for private party 5.30 p.m.-9.00 p.m.
DESCRIPTION:
URL:https://magicspace.ca/event/reserved-for-private-party-5-30-p-m-9-00-p-m-342/
END:VEVENT
BEGIN:VEVENT
DTSTART;TZID=UTC:20191124T173000
DTEND;TZID=UTC:20191124T210000
DTSTAMP:20260421T233641
CREATED:20190830T222433Z
LAST-MODIFIED:20190830T222433Z
UID:2612-1574616600-1574629200@magicspace.ca
SUMMARY:reserved for private party  5.30 p.m.-9.00 p.m.
DESCRIPTION:
URL:https://magicspace.ca/event/reserved-for-private-party-5-30-p-m-9-00-p-m-322/
END:VEVENT
BEGIN:VEVENT
DTSTART;TZID=UTC:20191123T173000
DTEND;TZID=UTC:20191123T210000
DTSTAMP:20260421T233641
CREATED:20181211T230643Z
LAST-MODIFIED:20181211T230643Z
UID:2060-1574530200-1574542800@magicspace.ca
SUMMARY:reserved for private party 5:30pm - 9:00pm
DESCRIPTION:
URL:https://magicspace.ca/event/reserved-for-private-party-530pm-900pm-3/
END:VEVENT
BEGIN:VEVENT
DTSTART;TZID=UTC:20191122T173000
DTEND;TZID=UTC:20191122T210000
DTSTAMP:20260421T233641
CREATED:20190808T231100Z
LAST-MODIFIED:20190808T231100Z
UID:2523-1574443800-1574456400@magicspace.ca
SUMMARY:reserved for private party 5.30 p.m.-9.00 p.m.
DESCRIPTION:
URL:https://magicspace.ca/event/reserved-for-private-party-5-30-p-m-9-00-p-m-301/
END:VEVENT
BEGIN:VEVENT
DTSTART;TZID=UTC:20191118T090000
DTEND;TZID=UTC:20191118T200000
DTSTAMP:20260421T233641
CREATED:20191108T233728Z
LAST-MODIFIED:20191108T233728Z
UID:2697-1574067600-1574107200@magicspace.ca
SUMMARY:OPEN UNTIL 8.00 P.M.
DESCRIPTION:
URL:https://magicspace.ca/event/open-until-8-00-p-m-48/
END:VEVENT
BEGIN:VEVENT
DTSTART;TZID=UTC:20191118T090000
DTEND;TZID=UTC:20191118T200000
DTSTAMP:20260421T233641
CREATED:20191108T203354Z
LAST-MODIFIED:20191108T203354Z
UID:2695-1574067600-1574107200@magicspace.ca
SUMMARY:Open until 8:00 PM
DESCRIPTION:
URL:https://magicspace.ca/event/open-until-800-pm/
END:VEVENT
BEGIN:VEVENT
DTSTART;TZID=UTC:20191117T173000
DTEND;TZID=UTC:20191117T210000
DTSTAMP:20260421T233641
CREATED:20190830T015726Z
LAST-MODIFIED:20190830T015726Z
UID:2610-1574011800-1574024400@magicspace.ca
SUMMARY:reserved for private party 5.30 p.m.-9.00 p.m.
DESCRIPTION:
URL:https://magicspace.ca/event/reserved-for-private-party-5-30-p-m-9-00-p-m-321/
END:VEVENT
BEGIN:VEVENT
DTSTART;TZID=UTC:20191116T173000
DTEND;TZID=UTC:20191116T210000
DTSTAMP:20260421T233641
CREATED:20181126T002435Z
LAST-MODIFIED:20181126T002435Z
UID:2033-1573925400-1573938000@magicspace.ca
SUMMARY:reserved for private party 5.30 p.m.-9.00 p.m.
DESCRIPTION:
URL:https://magicspace.ca/event/reserved-for-private-party-5-30-p-m-9-00-p-m-175/
END:VEVENT
BEGIN:VEVENT
DTSTART;TZID=UTC:20191115T173000
DTEND;TZID=UTC:20191115T210000
DTSTAMP:20260421T233641
CREATED:20190727T025915Z
LAST-MODIFIED:20190727T025915Z
UID:2500-1573839000-1573851600@magicspace.ca
SUMMARY:reserved for private party 5.30 p.m.-9.00 p.m.
DESCRIPTION:
URL:https://magicspace.ca/event/reserved-for-private-party-5-30-p-m-9-00-p-m-292/
END:VEVENT
END:VCALENDAR