BEGIN:VCALENDAR
VERSION:2.0
PRODID:-//Magic Space - ECPv6.3.5//NONSGML v1.0//EN
CALSCALE:GREGORIAN
METHOD:PUBLISH
X-WR-CALNAME:Magic Space
X-ORIGINAL-URL:https://magicspace.ca
X-WR-CALDESC:Events for Magic Space
REFRESH-INTERVAL;VALUE=DURATION:PT1H
X-Robots-Tag:noindex
X-PUBLISHED-TTL:PT1H
BEGIN:VTIMEZONE
TZID:UTC
BEGIN:STANDARD
TZOFFSETFROM:+0000
TZOFFSETTO:+0000
TZNAME:UTC
DTSTART:20190101T000000
END:STANDARD
END:VTIMEZONE
BEGIN:VEVENT
DTSTART;TZID=UTC:20200215T173000
DTEND;TZID=UTC:20200215T210000
DTSTAMP:20260422T000901
CREATED:20191025T003459Z
LAST-MODIFIED:20191025T003459Z
UID:2678-1581787800-1581800400@magicspace.ca
SUMMARY:reserved for private party 5.30 p.m.-9.00 p.m.
DESCRIPTION:
URL:https://magicspace.ca/event/reserved-for-private-party-5-30-p-m-9-00-p-m-340/
END:VEVENT
BEGIN:VEVENT
DTSTART;TZID=UTC:20200214T170000
DTEND;TZID=UTC:20200214T213000
DTSTAMP:20260422T000901
CREATED:20200116T172159Z
LAST-MODIFIED:20200116T172159Z
UID:2830-1581699600-1581715800@magicspace.ca
SUMMARY:Reserved for private party from 5:30 PM to 9:00 PM
DESCRIPTION:
URL:https://magicspace.ca/event/reserved-for-private-party-from-530-pm-to-900-pm-3/
END:VEVENT
BEGIN:VEVENT
DTSTART;TZID=UTC:20200209T173000
DTEND;TZID=UTC:20200209T210000
DTSTAMP:20260422T000901
CREATED:20191121T001413Z
LAST-MODIFIED:20191121T001413Z
UID:2711-1581269400-1581282000@magicspace.ca
SUMMARY:reserved for private party 5.30 p.m.-9.00 p.m.
DESCRIPTION:
URL:https://magicspace.ca/event/reserved-for-private-party-5-30-p-m-9-00-p-m-349/
END:VEVENT
BEGIN:VEVENT
DTSTART;TZID=UTC:20200208T173000
DTEND;TZID=UTC:20200208T213000
DTSTAMP:20260422T000901
CREATED:20191205T165015Z
LAST-MODIFIED:20191205T165015Z
UID:2762-1581183000-1581197400@magicspace.ca
SUMMARY:Reserved for private party from 5:30 to 9:30
DESCRIPTION:
URL:https://magicspace.ca/event/reserved-for-private-party-from-530-to-930-3/
END:VEVENT
BEGIN:VEVENT
DTSTART;TZID=UTC:20200207T173000
DTEND;TZID=UTC:20200207T210000
DTSTAMP:20260422T000901
CREATED:20190928T175605Z
LAST-MODIFIED:20190928T175605Z
UID:2646-1581096600-1581109200@magicspace.ca
SUMMARY:reserved for private party 5.30 p.m.-9.00 p.m.
DESCRIPTION:
URL:https://magicspace.ca/event/reserved-for-private-party-5-30-p-m-9-00-p-m-334/
END:VEVENT
BEGIN:VEVENT
DTSTART;TZID=UTC:20200206T173000
DTEND;TZID=UTC:20200206T210000
DTSTAMP:20260422T000901
CREATED:20200118T213950Z
LAST-MODIFIED:20200118T213950Z
UID:2835-1581010200-1581022800@magicspace.ca
SUMMARY:reserved for private party 5.30 p.m.-9.00 p.m.
DESCRIPTION:
URL:https://magicspace.ca/event/reserved-for-private-party-5-30-p-m-9-00-p-m-355/
END:VEVENT
BEGIN:VEVENT
DTSTART;TZID=UTC:20200202T170000
DTEND;TZID=UTC:20200202T210000
DTSTAMP:20260422T000901
CREATED:20191117T195608Z
LAST-MODIFIED:20191117T195608Z
UID:2707-1580662800-1580677200@magicspace.ca
SUMMARY:Reserved for private party 5:00 pm to 9:00 pm
DESCRIPTION:
URL:https://magicspace.ca/event/reserved-for-private-party-500-pm-to-900-pm/
END:VEVENT
BEGIN:VEVENT
DTSTART;TZID=UTC:20200201T173000
DTEND;TZID=UTC:20200201T210000
DTSTAMP:20260422T000901
CREATED:20191019T213901Z
LAST-MODIFIED:20191019T213901Z
UID:2674-1580578200-1580590800@magicspace.ca
SUMMARY:reserved for private party 5.30 p.m.-9.00 p.m.
DESCRIPTION:
URL:https://magicspace.ca/event/reserved-for-private-party-5-30-p-m-9-00-p-m-338/
END:VEVENT
BEGIN:VEVENT
DTSTART;TZID=UTC:20200131T173000
DTEND;TZID=UTC:20200131T210000
DTSTAMP:20260422T000901
CREATED:20191228T022554Z
LAST-MODIFIED:20191228T022554Z
UID:2798-1580491800-1580504400@magicspace.ca
SUMMARY:reserved for private party 5.30 p.m-9.00 p.m.
DESCRIPTION:
URL:https://magicspace.ca/event/reserved-for-private-party-5-30-p-m-9-00-p-m-341/
END:VEVENT
BEGIN:VEVENT
DTSTART;TZID=UTC:20200126T173000
DTEND;TZID=UTC:20200126T213000
DTSTAMP:20260422T000901
CREATED:20191126T191926Z
LAST-MODIFIED:20191126T191926Z
UID:2723-1580059800-1580074200@magicspace.ca
SUMMARY:Reserved for private party from 5:30 pm to 9:30 pm
DESCRIPTION:
URL:https://magicspace.ca/event/reserved-for-private-party-from-530-pm-to-930-pm/
END:VEVENT
BEGIN:VEVENT
DTSTART;TZID=UTC:20200125T173000
DTEND;TZID=UTC:20200125T213000
DTSTAMP:20260422T000901
CREATED:20191205T165118Z
LAST-MODIFIED:20191205T165118Z
UID:2764-1579973400-1579987800@magicspace.ca
SUMMARY:Reserved for private party from 5:30 to 9:30
DESCRIPTION:
URL:https://magicspace.ca/event/reserved-for-private-party-from-530-to-930-4/
END:VEVENT
BEGIN:VEVENT
DTSTART;TZID=UTC:20200124T173000
DTEND;TZID=UTC:20200124T210000
DTSTAMP:20260422T000901
CREATED:20200105T225009Z
LAST-MODIFIED:20200105T225009Z
UID:2817-1579887000-1579899600@magicspace.ca
SUMMARY:reserved for private party 5.30 p.m. -9.00 p.m
DESCRIPTION:
URL:https://magicspace.ca/event/reserved-for-private-party-5-30-p-m-9-00-p-m-360/
END:VEVENT
BEGIN:VEVENT
DTSTART;TZID=UTC:20200119T170000
DTEND;TZID=UTC:20200119T210000
DTSTAMP:20260422T000901
CREATED:20191107T232422Z
LAST-MODIFIED:20191107T232422Z
UID:2693-1579453200-1579467600@magicspace.ca
SUMMARY:reserved for private party 5.30 p.m.-9.00 p.m.
DESCRIPTION:
URL:https://magicspace.ca/event/reserved-for-private-party-5-30-p-m-9-00-p-m-345/
END:VEVENT
BEGIN:VEVENT
DTSTART;TZID=UTC:20200118T173000
DTEND;TZID=UTC:20200118T210000
DTSTAMP:20260422T000901
CREATED:20190929T215803Z
LAST-MODIFIED:20190929T215803Z
UID:2648-1579368600-1579381200@magicspace.ca
SUMMARY:reserved for private party 5.30 p.m.-9.00 p.m.
DESCRIPTION:
URL:https://magicspace.ca/event/reserved-for-private-party-5-30-p-m-9-00-p-m-335/
END:VEVENT
BEGIN:VEVENT
DTSTART;TZID=UTC:20200117T173000
DTEND;TZID=UTC:20200117T213000
DTSTAMP:20260422T000901
CREATED:20191105T200000Z
LAST-MODIFIED:20191105T200000Z
UID:2691-1579282200-1579296600@magicspace.ca
SUMMARY:Reserved for Private party from 5:30 P.M. to 9:30 PM
DESCRIPTION:
URL:https://magicspace.ca/event/reserved-for-private-party-from-530-p-m-to-930-pm/
END:VEVENT
BEGIN:VEVENT
DTSTART;TZID=UTC:20200114T173000
DTEND;TZID=UTC:20200114T210000
DTSTAMP:20260422T000901
CREATED:20191104T003614Z
LAST-MODIFIED:20191104T003614Z
UID:2687-1579023000-1579035600@magicspace.ca
SUMMARY:reserved for private party 5.30 p.m.-9.00 p.m.
DESCRIPTION:
URL:https://magicspace.ca/event/reserved-for-private-party-5-30-p-m-9-00-p-m-313/
END:VEVENT
BEGIN:VEVENT
DTSTART;TZID=UTC:20200112T173000
DTEND;TZID=UTC:20200112T210000
DTSTAMP:20260422T000901
CREATED:20200104T005644Z
LAST-MODIFIED:20200104T005644Z
UID:2808-1578850200-1578862800@magicspace.ca
SUMMARY:reserved for private party 5.30 p.m.-9.00 p.m.
DESCRIPTION:
URL:https://magicspace.ca/event/reserved-for-private-party-5-30-p-m-9-00-p-m-356/
END:VEVENT
BEGIN:VEVENT
DTSTART;TZID=UTC:20200111T173000
DTEND;TZID=UTC:20200111T213000
DTSTAMP:20260422T000901
CREATED:20191210T003319Z
LAST-MODIFIED:20191228T005336Z
UID:2779-1578763800-1578778200@magicspace.ca
SUMMARY:Reserved for private party from 5:30 to 9:30
DESCRIPTION:
URL:https://magicspace.ca/event/reserved-for-private-party-from-530-to-930-5/
END:VEVENT
BEGIN:VEVENT
DTSTART;TZID=UTC:20200104T173000
DTEND;TZID=UTC:20200104T210000
DTSTAMP:20260422T000901
CREATED:20190921T181756Z
LAST-MODIFIED:20190921T181756Z
UID:2635-1578159000-1578171600@magicspace.ca
SUMMARY:reserved for private party 5.30 p.m.-9.00 p.m.
DESCRIPTION:
URL:https://magicspace.ca/event/reserved-for-private-party-5-30-p-m-9-00-p-m-329/
END:VEVENT
BEGIN:VEVENT
DTSTART;TZID=UTC:20200103T173000
DTEND;TZID=UTC:20200103T210000
DTSTAMP:20260422T000901
CREATED:20191118T031726Z
LAST-MODIFIED:20191118T031726Z
UID:2709-1578072600-1578085200@magicspace.ca
SUMMARY:reserved for private party 5.30 p.m.-9.00 p.m.
DESCRIPTION:
URL:https://magicspace.ca/event/reserved-for-private-party-5-30-p-m-9-00-p-m-348/
END:VEVENT
BEGIN:VEVENT
DTSTART;TZID=UTC:20200101T173000
DTEND;TZID=UTC:20200101T210000
DTSTAMP:20260422T000901
CREATED:20191124T144218Z
LAST-MODIFIED:20191210T191550Z
UID:2719-1577899800-1577912400@magicspace.ca
SUMMARY:reserved for private party 5.30 p.m.-9.00 p.m.
DESCRIPTION:
URL:https://magicspace.ca/event/reserved-for-private-party-5-30-p-m-9-00-p-m-333/
END:VEVENT
BEGIN:VEVENT
DTSTART;TZID=UTC:20200101T130000
DTEND;TZID=UTC:20200101T170000
DTSTAMP:20260422T000901
CREATED:20191217T212907Z
LAST-MODIFIED:20191217T212937Z
UID:2786-1577883600-1577898000@magicspace.ca
SUMMARY:Happy New Year! Open from 1:00 pm to 5:00 pm
DESCRIPTION:
URL:https://magicspace.ca/event/happy-new-year-open-from-100-pm-to-500-pm/
END:VEVENT
BEGIN:VEVENT
DTSTART;TZID=UTC:20191231T173000
DTEND;TZID=UTC:20191231T210000
DTSTAMP:20260422T000901
CREATED:20190214T040924Z
LAST-MODIFIED:20190214T040924Z
UID:2211-1577813400-1577826000@magicspace.ca
SUMMARY:reserved for private party 5.30 p.m.-9.00 p.m.
DESCRIPTION:
URL:https://magicspace.ca/event/reserved-for-private-party-5-30-p-m-9-00-p-m-220/
END:VEVENT
BEGIN:VEVENT
DTSTART;TZID=UTC:20191231T090000
DTEND;TZID=UTC:20191231T140000
DTSTAMP:20260422T000901
CREATED:20191217T215316Z
LAST-MODIFIED:20191217T215316Z
UID:2791-1577782800-1577800800@magicspace.ca
SUMMARY:Open from 9:00 AM to 2:00 PM
DESCRIPTION:
URL:https://magicspace.ca/event/open-from-900-am-to-200-pm/
END:VEVENT
BEGIN:VEVENT
DTSTART;TZID=UTC:20191230T173000
DTEND;TZID=UTC:20191230T210000
DTSTAMP:20260422T000901
CREATED:20191229T212514Z
LAST-MODIFIED:20191229T212514Z
UID:2800-1577727000-1577739600@magicspace.ca
SUMMARY:reserved for private party 5.30 p.m.-9.00 p.m.
DESCRIPTION:
URL:https://magicspace.ca/event/reserved-for-private-party-5-30-p-m-9-00-p-m-353/
END:VEVENT
BEGIN:VEVENT
DTSTART;TZID=UTC:20191229T173000
DTEND;TZID=UTC:20191229T213000
DTSTAMP:20260422T000901
CREATED:20191205T164926Z
LAST-MODIFIED:20191210T003247Z
UID:2760-1577640600-1577655000@magicspace.ca
SUMMARY:Reserved for private party from 5:30 to 9:30
DESCRIPTION:
URL:https://magicspace.ca/event/reserved-for-private-party-from-530-to-930-2/
END:VEVENT
BEGIN:VEVENT
DTSTART;TZID=UTC:20191228T173000
DTEND;TZID=UTC:20191228T210000
DTSTAMP:20260422T000901
CREATED:20190808T232830Z
LAST-MODIFIED:20190808T232830Z
UID:2525-1577554200-1577566800@magicspace.ca
SUMMARY:reserved for private party 5.30 p.m.-9.00 p.m.
DESCRIPTION:
URL:https://magicspace.ca/event/reserved-for-private-party-5-30-p-m-9-00-p-m-302/
END:VEVENT
BEGIN:VEVENT
DTSTART;TZID=UTC:20191227T173000
DTEND;TZID=UTC:20191227T210000
DTSTAMP:20260422T000901
CREATED:20191020T173828Z
LAST-MODIFIED:20191020T173828Z
UID:2676-1577467800-1577480400@magicspace.ca
SUMMARY:reserved for private party 5.30 p.m.-9.00 p.m.
DESCRIPTION:
URL:https://magicspace.ca/event/reserved-for-private-party-5-30-p-m-9-00-p-m-339/
END:VEVENT
BEGIN:VEVENT
DTSTART;TZID=UTC:20191226T120000
DTEND;TZID=UTC:20191226T170000
DTSTAMP:20260422T000901
CREATED:20191206T034332Z
LAST-MODIFIED:20191206T034332Z
UID:2768-1577361600-1577379600@magicspace.ca
SUMMARY:Happy Shopping- Open from 12:00 PM to 5:00 PM
DESCRIPTION:
URL:https://magicspace.ca/event/happy-shopping-open-from-1200-pm-to-500-pm/
END:VEVENT
BEGIN:VEVENT
DTSTART;TZID=UTC:20191225T173000
DTEND;TZID=UTC:20191225T210000
DTSTAMP:20260422T000901
CREATED:20190811T135204Z
LAST-MODIFIED:20190811T135204Z
UID:2532-1577295000-1577307600@magicspace.ca
SUMMARY:reserved for private party 5.30 p.m.-9.00 p.m.
DESCRIPTION:
URL:https://magicspace.ca/event/reserved-for-private-party-5-30-p-m-9-00-p-m-304/
END:VEVENT
END:VCALENDAR