BEGIN:VCALENDAR
VERSION:2.0
PRODID:-//Magic Space - ECPv6.3.5//NONSGML v1.0//EN
CALSCALE:GREGORIAN
METHOD:PUBLISH
X-ORIGINAL-URL:https://magicspace.ca
X-WR-CALDESC:Events for Magic Space
REFRESH-INTERVAL;VALUE=DURATION:PT1H
X-Robots-Tag:noindex
X-PUBLISHED-TTL:PT1H
BEGIN:VTIMEZONE
TZID:UTC
BEGIN:STANDARD
TZOFFSETFROM:+0000
TZOFFSETTO:+0000
TZNAME:UTC
DTSTART:20230101T000000
END:STANDARD
END:VTIMEZONE
BEGIN:VEVENT
DTSTART;VALUE=DATE:20230115
DTEND;VALUE=DATE:20230116
DTSTAMP:20260425T142815
CREATED:20230104T235221Z
LAST-MODIFIED:20230104T235221Z
UID:3873-1673740800-1673827199@magicspace.ca
SUMMARY:Playground auction January 15\, 2023. https://kauctions.ca/auction/the-magic-space-indoor-playground-auction/
DESCRIPTION:
URL:https://magicspace.ca/event/playground-auction-january-15-2023-https-kauctions-ca-auction-the-magic-space-indoor-playground-auction/
END:VEVENT
END:VCALENDAR