BEGIN:VCALENDAR
VERSION:2.0
PRODID:-//Magic Space - ECPv6.3.5//NONSGML v1.0//EN
CALSCALE:GREGORIAN
METHOD:PUBLISH
X-ORIGINAL-URL:https://magicspace.ca
X-WR-CALDESC:Events for Magic Space
REFRESH-INTERVAL;VALUE=DURATION:PT1H
X-Robots-Tag:noindex
X-PUBLISHED-TTL:PT1H
BEGIN:VTIMEZONE
TZID:UTC
BEGIN:STANDARD
TZOFFSETFROM:+0000
TZOFFSETTO:+0000
TZNAME:UTC
DTSTART:20220101T000000
END:STANDARD
END:VTIMEZONE
BEGIN:VEVENT
DTSTART;TZID=UTC:20220909T100000
DTEND;TZID=UTC:20220909T130000
DTSTAMP:20260426T002227
CREATED:20220901T221121Z
LAST-MODIFIED:20220901T221121Z
UID:3827-1662717600-1662728400@magicspace.ca
SUMMARY:Open House/Meet the teacher from 10:00 AM to 1:00 PM
DESCRIPTION:
URL:https://magicspace.ca/event/open-house-meet-the-teacher-from-1000-am-to-100-pm/
END:VEVENT
END:VCALENDAR